BEGIN:VCALENDAR
VERSION:2.0
PRODID:-//Familiekerk Walcheren - ECPv6.2.8.2//NONSGML v1.0//EN
CALSCALE:GREGORIAN
METHOD:PUBLISH
X-ORIGINAL-URL:https://www.familiekerkwalcheren.nl
X-WR-CALDESC:Evenementen voor Familiekerk Walcheren
REFRESH-INTERVAL;VALUE=DURATION:PT1H
X-Robots-Tag:noindex
X-PUBLISHED-TTL:PT1H
BEGIN:VTIMEZONE
TZID:UTC
BEGIN:STANDARD
TZOFFSETFROM:+0000
TZOFFSETTO:+0000
TZNAME:UTC
DTSTART:20230101T000000
END:STANDARD
END:VTIMEZONE
BEGIN:VEVENT
DTSTART;TZID=UTC:20230924T080000
DTEND;TZID=UTC:20230929T170000
DTSTAMP:20260425T225216
CREATED:20230918T084926Z
LAST-MODIFIED:20230918T094135Z
UID:715-1695542400-1696006800@www.familiekerkwalcheren.nl
SUMMARY:Gebeds- en vastenweek
DESCRIPTION:Gebeds – en vastenweek van 24 – 29 september 2023. \nDeze week willen we apart zetten voor God en dagelijks bij elkaar komen om samen te bidden.\nDoe jij mee? \n“Er komt een onmetelijke kracht vrij als we bidden en vasten. Deze enorme kracht kan niet alleen persoonlijke levens en families veranderen\, maar ook hele steden\, landen en generaties!”
URL:https://www.familiekerkwalcheren.nl/evenement/gebeds-en-vastenweek/
END:VEVENT
END:VCALENDAR