BEGIN:VCALENDAR
VERSION:2.0
PRODID:-//Familiekerk Walcheren - ECPv6.2.8.2//NONSGML v1.0//EN
CALSCALE:GREGORIAN
METHOD:PUBLISH
X-ORIGINAL-URL:https://www.familiekerkwalcheren.nl
X-WR-CALDESC:Evenementen voor Familiekerk Walcheren
REFRESH-INTERVAL;VALUE=DURATION:PT1H
X-Robots-Tag:noindex
X-PUBLISHED-TTL:PT1H
BEGIN:VTIMEZONE
TZID:UTC
BEGIN:STANDARD
TZOFFSETFROM:+0000
TZOFFSETTO:+0000
TZNAME:UTC
DTSTART:20250101T000000
END:STANDARD
END:VTIMEZONE
BEGIN:VEVENT
DTSTART;TZID=UTC:20250309T100000
DTEND;TZID=UTC:20250309T130000
DTSTAMP:20260422T181032
CREATED:20250213T083458Z
LAST-MODIFIED:20250213T083553Z
UID:1063-1741514400-1741525200@www.familiekerkwalcheren.nl
SUMMARY:Ontmoeting op zondag - wandelen
DESCRIPTION:Je bent van harte welkom! \nWe starten om 10.00 uur met koffie/thee. Daarna nemen we tijd om God te aanbidden en delen we het onderwijs.\nVandaag na de aanbidding gaan we wandelen met elkaar.\nNa de samenkomst lunchen wij met elkaar (Bring and Share). Voel je vrij om aan te sluiten of naar huis te gaan. \nLocatie: Nehalennia SSG\, Kruisweg 2\, 4335 CT Middelburg
URL:https://www.familiekerkwalcheren.nl/evenement/ontmoeting-op-zondag-78/
LOCATION:SSG Nehalennia\, Kruisweg 2\, Middelburg\, Nederland
END:VEVENT
END:VCALENDAR