BEGIN:VCALENDAR
VERSION:2.0
PRODID:-//Familiekerk Walcheren - ECPv6.2.8.2//NONSGML v1.0//EN
CALSCALE:GREGORIAN
METHOD:PUBLISH
X-WR-CALNAME:Familiekerk Walcheren
X-ORIGINAL-URL:https://www.familiekerkwalcheren.nl
X-WR-CALDESC:Evenementen voor Familiekerk Walcheren
REFRESH-INTERVAL;VALUE=DURATION:PT1H
X-Robots-Tag:noindex
X-PUBLISHED-TTL:PT1H
BEGIN:VTIMEZONE
TZID:UTC
BEGIN:STANDARD
TZOFFSETFROM:+0000
TZOFFSETTO:+0000
TZNAME:UTC
DTSTART:20250101T000000
END:STANDARD
END:VTIMEZONE
BEGIN:VEVENT
DTSTART;TZID=UTC:20250427T110000
DTEND;TZID=UTC:20250427T120000
DTSTAMP:20260422T162949
CREATED:20250414T100751Z
LAST-MODIFIED:20250414T100751Z
UID:1092-1745751600-1745755200@www.familiekerkwalcheren.nl
SUMMARY:Ontmoeting op zondag - Wandelen
DESCRIPTION:In verband met de meivakantie gaan we samen om 11 uur wandelen.
URL:https://www.familiekerkwalcheren.nl/evenement/ontmoeting-op-zondag-wandelen-2/
END:VEVENT
END:VCALENDAR