BEGIN:VCALENDAR
VERSION:2.0
PRODID:-//Familiekerk Walcheren - ECPv6.2.8.2//NONSGML v1.0//EN
CALSCALE:GREGORIAN
METHOD:PUBLISH
X-WR-CALNAME:Familiekerk Walcheren
X-ORIGINAL-URL:https://www.familiekerkwalcheren.nl
X-WR-CALDESC:Evenementen voor Familiekerk Walcheren
REFRESH-INTERVAL;VALUE=DURATION:PT1H
X-Robots-Tag:noindex
X-PUBLISHED-TTL:PT1H
BEGIN:VTIMEZONE
TZID:UTC
BEGIN:STANDARD
TZOFFSETFROM:+0000
TZOFFSETTO:+0000
TZNAME:UTC
DTSTART:20250101T000000
END:STANDARD
END:VTIMEZONE
BEGIN:VEVENT
DTSTART;VALUE=DATE:20250629
DTEND;VALUE=DATE:20250630
DTSTAMP:20260422T115142
CREATED:20250515T112220Z
LAST-MODIFIED:20250515T112220Z
UID:1108-1751155200-1751241599@www.familiekerkwalcheren.nl
SUMMARY:GEEN ontmoeting op zondag
DESCRIPTION:
URL:https://www.familiekerkwalcheren.nl/evenement/geen-ontmoeting-op-zondag-11/
END:VEVENT
END:VCALENDAR