BEGIN:VCALENDAR
VERSION:2.0
PRODID:-//Familiekerk Walcheren - ECPv6.2.8.2//NONSGML v1.0//EN
CALSCALE:GREGORIAN
METHOD:PUBLISH
X-ORIGINAL-URL:https://www.familiekerkwalcheren.nl
X-WR-CALDESC:Evenementen voor Familiekerk Walcheren
REFRESH-INTERVAL;VALUE=DURATION:PT1H
X-Robots-Tag:noindex
X-PUBLISHED-TTL:PT1H
BEGIN:VTIMEZONE
TZID:UTC
BEGIN:STANDARD
TZOFFSETFROM:+0000
TZOFFSETTO:+0000
TZNAME:UTC
DTSTART:20250101T000000
END:STANDARD
END:VTIMEZONE
BEGIN:VEVENT
DTSTART;TZID=UTC:20251024T193000
DTEND;TZID=UTC:20251024T213000
DTSTAMP:20260422T053751
CREATED:20251006T170704Z
LAST-MODIFIED:20251008T081127Z
UID:1157-1761334200-1761341400@www.familiekerkwalcheren.nl
SUMMARY:Appeltaart workshop
DESCRIPTION:Heerlijk: de geur van versgebakken appeltaart\, een volle tafel en goede gesprekken.\nDaar maken we bij Familiekerk Walcheren graag ruimte voor. Daarom organiseren we een gratis appeltaart-workshop—om samen iets leuks te doen én onze buurt beter te leren kennen. Geen preek\, wel proeven: geen kerkdienst of programma\, maar gewoon samen bakken\, kletsen en de sfeer van Familiekerk Walcheren proeven. \nWat gaan we doen? \n\nWe bakken samen een échte Hollandse appeltaart (met tips voor bodem\, vulling en baktijd).\nTussendoor is er volop ontmoeting en gesprek—laagdrempelig en gezellig.\nKoffie en thee staan klaar.\n\nIedereen is welkom: of je nu graag bakt\, nieuwsgierig bent of gewoon zin hebt in een fijne avond. Neem gerust een buur of vriend(in) mee. \nPraktisch \n\nWanneer: vrijdag 24 oktober\, 19.30 uur (inloop 19.15)\nWaar: Gebouw Nehalennia\, Kruisweg 2\, Middelburg\nKosten: gratis – we zorgen dat er genoeg is voor iedereen.\nVoorzieningen: materialen en ingrediënten zijn aanwezig;\nTip: neem gerust je eigen schort mee als je je kleding wilt beschermen — wij hebben ook een paar schorten en theedoeken op locatie.\n\nAanmelden (mag\, hoeft niet)\nFijn als je je aanmeldt—dan weten we voor hoeveel mensen we inkopen doen. Last minute beslissen? Helemaal goed. Je bent van harte welkom! \nWil je meer weten over ons als kerk?\nJe bent welkom om gewoon met ons in gesprek te gaan tijdens de workshop. Wil je alvast rondkijken: check onze website of volg ons op Instagram @familiekerkwalcheren. Zo proef je meteen nog wat extra van wie wij zijn en wat we doen.
URL:https://www.familiekerkwalcheren.nl/evenement/appeltaart-workshop/
LOCATION:SSG Nehalennia\, Kruisweg 2\, Middelburg\, Nederland
END:VEVENT
END:VCALENDAR