BEGIN:VCALENDAR
VERSION:2.0
PRODID:-//Familiekerk Walcheren - ECPv6.2.8.2//NONSGML v1.0//EN
CALSCALE:GREGORIAN
METHOD:PUBLISH
X-WR-CALNAME:Familiekerk Walcheren
X-ORIGINAL-URL:https://www.familiekerkwalcheren.nl
X-WR-CALDESC:Evenementen voor Familiekerk Walcheren
REFRESH-INTERVAL;VALUE=DURATION:PT1H
X-Robots-Tag:noindex
X-PUBLISHED-TTL:PT1H
BEGIN:VTIMEZONE
TZID:UTC
BEGIN:STANDARD
TZOFFSETFROM:+0000
TZOFFSETTO:+0000
TZNAME:UTC
DTSTART:20220101T000000
END:STANDARD
END:VTIMEZONE
BEGIN:VEVENT
DTSTART;TZID=UTC:20230115T100000
DTEND;TZID=UTC:20230115T120000
DTSTAMP:20260421T050400
CREATED:20221108T201214Z
LAST-MODIFIED:20221201T135705Z
UID:516-1673776800-1673784000@www.familiekerkwalcheren.nl
SUMMARY:Ontmoeting op zondag
DESCRIPTION:Je bent van harte welkom! \nWe starten om 10.00 uur met koffie/thee. Daarna nemen we tijd om God te aanbidden en delen we het onderwijs.\nTijdens het onderwijs hebben de kinderen om de week hun eigen programma en de andere keer betrekken wij de kinderen erbij.\nNa de samenkomst lunchen wij met elkaar (Bring and Share).  \nLocatie: Nehalennia SSG\, Kruisweg 2\, 4335 CT Middelburg
URL:https://www.familiekerkwalcheren.nl/evenement/ontmoeting-op-zondag-3-2023-01-15/
LOCATION:SSG Nehalennia\, Kruisweg 2\, Middelburg\, Nederland
END:VEVENT
BEGIN:VEVENT
DTSTART;TZID=UTC:20230112T203000
DTEND;TZID=UTC:20230112T220000
DTSTAMP:20260421T050400
CREATED:20221108T204001Z
LAST-MODIFIED:20221115T181859Z
UID:526-1673555400-1673560800@www.familiekerkwalcheren.nl
SUMMARY:Kleine groep
DESCRIPTION:Kerk zijn is niet alleen op zondag\, maar de hele week. Elke donderdagavond om 20.30 uur komen wij bij elkaar in een huiskamer in Koudekerke.\nDeze avonden zijn een geweldige manier om mensen te leren kennen\, vriendschappen op te bouwen en elkaar aan te moedigen in ons geloof.\nPer avond wisselt het programma. Op de ene avond kan de nadruk meer op het Bidden liggen en de andere avond meer op de Bijbel. \nGeïnteresseerd\, of wil je meer informatie? Neem contact met ons op. \n 
URL:https://www.familiekerkwalcheren.nl/evenement/kleine-groep-2023-01-12/
END:VEVENT
BEGIN:VEVENT
DTSTART;TZID=UTC:20230108T100000
DTEND;TZID=UTC:20230108T120000
DTSTAMP:20260421T050400
CREATED:20221108T201214Z
LAST-MODIFIED:20221201T135703Z
UID:515-1673172000-1673179200@www.familiekerkwalcheren.nl
SUMMARY:Ontmoeting op zondag
DESCRIPTION:Je bent van harte welkom! \nWe starten om 10.00 uur met koffie/thee. Daarna nemen we tijd om God te aanbidden en delen we het onderwijs.\nTijdens het onderwijs hebben de kinderen om de week hun eigen programma en de andere keer betrekken wij de kinderen erbij.\nNa de samenkomst lunchen wij met elkaar (Bring and Share).  \nLocatie: Nehalennia SSG\, Kruisweg 2\, 4335 CT Middelburg
URL:https://www.familiekerkwalcheren.nl/evenement/ontmoeting-op-zondag-3-2023-01-08/
LOCATION:SSG Nehalennia\, Kruisweg 2\, Middelburg\, Nederland
END:VEVENT
BEGIN:VEVENT
DTSTART;TZID=UTC:20221225T093000
DTEND;TZID=UTC:20221225T110000
DTSTAMP:20260421T050400
CREATED:20221201T141511Z
LAST-MODIFIED:20221210T143520Z
UID:545-1671960600-1671966000@www.familiekerkwalcheren.nl
SUMMARY:Bring & Share Kerstontbijt
DESCRIPTION:Je bent van harte uitgenodigd voor Bring & Share Kerstontbijt op zondag 25 januari 2022. \nWe starten om 9.30 uur met gezamenlijk ontbijten. Na het eten zingen we een aantal kerstliederen en zal er een creatieve kerstboodschap gespeeld worden. \nFamiliekerk Walcheren zorgt voor kerststollen en drinken. Iedereen neemt iets mee voor het ontbijt om toe te voegen aan de gemeenschappelijke maaltijd. De ervaring leert dat er altijd eten over is; mocht je niet in de gelegenheid zijn om iets mee te nemen\, ben je evengoed van harte welkom. \nEr zal geen aparte kinderdienst zijn\, maar we zorgen voor een kinderhoekje waar de kleinste kinderen kunnen spelen.
URL:https://www.familiekerkwalcheren.nl/evenement/bring-share-kerstontbijt/
LOCATION:SSG Nehalennia\, Kruisweg 2\, Middelburg\, Nederland
ATTACH;FMTTYPE=image/png:https://www.familiekerkwalcheren.nl/wp-content/uploads/2022/12/Kerstkaart-FKW-2022-e1670664788913.png
END:VEVENT
BEGIN:VEVENT
DTSTART;TZID=UTC:20221218T100000
DTEND;TZID=UTC:20221218T120000
DTSTAMP:20260421T050400
CREATED:20221108T201214Z
LAST-MODIFIED:20221201T135702Z
UID:513-1671357600-1671364800@www.familiekerkwalcheren.nl
SUMMARY:Ontmoeting op zondag
DESCRIPTION:Je bent van harte welkom! \nWe starten om 10.00 uur met koffie/thee. Daarna nemen we tijd om God te aanbidden en delen we het onderwijs.\nTijdens het onderwijs hebben de kinderen om de week hun eigen programma en de andere keer betrekken wij de kinderen erbij.\nNa de samenkomst lunchen wij met elkaar (Bring and Share).  \nLocatie: Nehalennia SSG\, Kruisweg 2\, 4335 CT Middelburg
URL:https://www.familiekerkwalcheren.nl/evenement/ontmoeting-op-zondag-3-2022-12-18/
LOCATION:SSG Nehalennia\, Kruisweg 2\, Middelburg\, Nederland
END:VEVENT
BEGIN:VEVENT
DTSTART;TZID=UTC:20221215T203000
DTEND;TZID=UTC:20221215T220000
DTSTAMP:20260421T050400
CREATED:20221108T204001Z
LAST-MODIFIED:20221115T181858Z
UID:525-1671136200-1671141600@www.familiekerkwalcheren.nl
SUMMARY:Kleine groep
DESCRIPTION:Kerk zijn is niet alleen op zondag\, maar de hele week. Elke donderdagavond om 20.30 uur komen wij bij elkaar in een huiskamer in Koudekerke.\nDeze avonden zijn een geweldige manier om mensen te leren kennen\, vriendschappen op te bouwen en elkaar aan te moedigen in ons geloof.\nPer avond wisselt het programma. Op de ene avond kan de nadruk meer op het Bidden liggen en de andere avond meer op de Bijbel. \nGeïnteresseerd\, of wil je meer informatie? Neem contact met ons op. \n 
URL:https://www.familiekerkwalcheren.nl/evenement/kleine-groep-2022-12-15/
END:VEVENT
BEGIN:VEVENT
DTSTART;TZID=UTC:20221211T100000
DTEND;TZID=UTC:20221211T120000
DTSTAMP:20260421T050400
CREATED:20221108T201214Z
LAST-MODIFIED:20221210T141022Z
UID:512-1670752800-1670760000@www.familiekerkwalcheren.nl
SUMMARY:Ontmoeting op zondag
DESCRIPTION:Je bent van harte welkom! \nWe starten om 10.00 uur met koffie/thee. Daarna nemen we tijd om God te aanbidden en delen we het onderwijs.\nTijdens het onderwijs hebben de kinderen om de week hun eigen programma en de andere keer betrekken wij de kinderen erbij.\nNa de samenkomst lunchen wij met elkaar (Bring and Share).  \nLocatie: Nehalennia SSG\, Kruisweg 2\, 4335 CT Middelburg
URL:https://www.familiekerkwalcheren.nl/evenement/ontmoeting-op-zondag-3-2022-12-11/
LOCATION:SSG Nehalennia\, Kruisweg 2\, Middelburg\, Nederland
END:VEVENT
BEGIN:VEVENT
DTSTART;TZID=UTC:20221208T203000
DTEND;TZID=UTC:20221208T220000
DTSTAMP:20260421T050400
CREATED:20221108T204001Z
LAST-MODIFIED:20221115T181857Z
UID:524-1670531400-1670536800@www.familiekerkwalcheren.nl
SUMMARY:Kleine groep
DESCRIPTION:Kerk zijn is niet alleen op zondag\, maar de hele week. Elke donderdagavond om 20.30 uur komen wij bij elkaar in een huiskamer in Koudekerke.\nDeze avonden zijn een geweldige manier om mensen te leren kennen\, vriendschappen op te bouwen en elkaar aan te moedigen in ons geloof.\nPer avond wisselt het programma. Op de ene avond kan de nadruk meer op het Bidden liggen en de andere avond meer op de Bijbel. \nGeïnteresseerd\, of wil je meer informatie? Neem contact met ons op. \n 
URL:https://www.familiekerkwalcheren.nl/evenement/kleine-groep-2022-12-08/
END:VEVENT
BEGIN:VEVENT
DTSTART;TZID=UTC:20221201T203000
DTEND;TZID=UTC:20221201T220000
DTSTAMP:20260421T050400
CREATED:20221108T204001Z
LAST-MODIFIED:20221115T181854Z
UID:523-1669926600-1669932000@www.familiekerkwalcheren.nl
SUMMARY:Kleine groep
DESCRIPTION:Kerk zijn is niet alleen op zondag\, maar de hele week. Elke donderdagavond om 20.30 uur komen wij bij elkaar in een huiskamer in Koudekerke.\nDeze avonden zijn een geweldige manier om mensen te leren kennen\, vriendschappen op te bouwen en elkaar aan te moedigen in ons geloof.\nPer avond wisselt het programma. Op de ene avond kan de nadruk meer op het Bidden liggen en de andere avond meer op de Bijbel. \nGeïnteresseerd\, of wil je meer informatie? Neem contact met ons op. \n 
URL:https://www.familiekerkwalcheren.nl/evenement/kleine-groep-2022-12-01/
END:VEVENT
BEGIN:VEVENT
DTSTART;TZID=UTC:20221127T100000
DTEND;TZID=UTC:20221127T120000
DTSTAMP:20260421T050400
CREATED:20221108T201214Z
LAST-MODIFIED:20221201T135658Z
UID:511-1669543200-1669550400@www.familiekerkwalcheren.nl
SUMMARY:Ontmoeting op zondag
DESCRIPTION:Je bent van harte welkom! \nWe starten om 10.00 uur met koffie/thee. Daarna nemen we tijd om God te aanbidden en delen we het onderwijs.\nTijdens het onderwijs hebben de kinderen om de week hun eigen programma en de andere keer betrekken wij de kinderen erbij.\nNa de samenkomst lunchen wij met elkaar (Bring and Share).  \nLocatie: Nehalennia SSG\, Kruisweg 2\, 4335 CT Middelburg
URL:https://www.familiekerkwalcheren.nl/evenement/ontmoeting-op-zondag-3-2022-11-27/
LOCATION:SSG Nehalennia\, Kruisweg 2\, Middelburg\, Nederland
END:VEVENT
BEGIN:VEVENT
DTSTART;TZID=UTC:20221124T203000
DTEND;TZID=UTC:20221124T220000
DTSTAMP:20260421T050400
CREATED:20221108T204001Z
LAST-MODIFIED:20221115T181853Z
UID:522-1669321800-1669327200@www.familiekerkwalcheren.nl
SUMMARY:Kleine groep
DESCRIPTION:Kerk zijn is niet alleen op zondag\, maar de hele week. Elke donderdagavond om 20.30 uur komen wij bij elkaar in een huiskamer in Koudekerke.\nDeze avonden zijn een geweldige manier om mensen te leren kennen\, vriendschappen op te bouwen en elkaar aan te moedigen in ons geloof.\nPer avond wisselt het programma. Op de ene avond kan de nadruk meer op het Bidden liggen en de andere avond meer op de Bijbel. \nGeïnteresseerd\, of wil je meer informatie? Neem contact met ons op. \n 
URL:https://www.familiekerkwalcheren.nl/evenement/kleine-groep-2022-11-24/
END:VEVENT
BEGIN:VEVENT
DTSTART;TZID=UTC:20221110T203000
DTEND;TZID=UTC:20221110T220000
DTSTAMP:20260421T050400
CREATED:20221108T204001Z
LAST-MODIFIED:20221115T181852Z
UID:520-1668112200-1668117600@www.familiekerkwalcheren.nl
SUMMARY:Kleine groep
DESCRIPTION:Kerk zijn is niet alleen op zondag\, maar de hele week. Elke donderdagavond om 20.30 uur komen wij bij elkaar in een huiskamer in Koudekerke.\nDeze avonden zijn een geweldige manier om mensen te leren kennen\, vriendschappen op te bouwen en elkaar aan te moedigen in ons geloof.\nPer avond wisselt het programma. Op de ene avond kan de nadruk meer op het Bidden liggen en de andere avond meer op de Bijbel. \nGeïnteresseerd\, of wil je meer informatie? Neem contact met ons op. \n 
URL:https://www.familiekerkwalcheren.nl/evenement/kleine-groep-2022-11-10/
END:VEVENT
BEGIN:VEVENT
DTSTART;TZID=UTC:20221106T100000
DTEND;TZID=UTC:20221106T120000
DTSTAMP:20260421T050400
CREATED:20221108T201214Z
LAST-MODIFIED:20221201T135657Z
UID:507-1667728800-1667736000@www.familiekerkwalcheren.nl
SUMMARY:Ontmoeting op zondag
DESCRIPTION:Je bent van harte welkom! \nWe starten om 10.00 uur met koffie/thee. Daarna nemen we tijd om God te aanbidden en delen we het onderwijs.\nTijdens het onderwijs hebben de kinderen om de week hun eigen programma en de andere keer betrekken wij de kinderen erbij.\nNa de samenkomst lunchen wij met elkaar (Bring and Share).  \nLocatie: Nehalennia SSG\, Kruisweg 2\, 4335 CT Middelburg
URL:https://www.familiekerkwalcheren.nl/evenement/ontmoeting-op-zondag-3/
LOCATION:SSG Nehalennia\, Kruisweg 2\, Middelburg\, Nederland
END:VEVENT
BEGIN:VEVENT
DTSTART;TZID=UTC:20221103T203000
DTEND;TZID=UTC:20221103T220000
DTSTAMP:20260421T050400
CREATED:20221108T204001Z
LAST-MODIFIED:20221115T181852Z
UID:518-1667507400-1667512800@www.familiekerkwalcheren.nl
SUMMARY:Kleine groep
DESCRIPTION:Kerk zijn is niet alleen op zondag\, maar de hele week. Elke donderdagavond om 20.30 uur komen wij bij elkaar in een huiskamer in Koudekerke.\nDeze avonden zijn een geweldige manier om mensen te leren kennen\, vriendschappen op te bouwen en elkaar aan te moedigen in ons geloof.\nPer avond wisselt het programma. Op de ene avond kan de nadruk meer op het Bidden liggen en de andere avond meer op de Bijbel. \nGeïnteresseerd\, of wil je meer informatie? Neem contact met ons op. \n 
URL:https://www.familiekerkwalcheren.nl/evenement/kleine-groep/
END:VEVENT
BEGIN:VEVENT
DTSTART;TZID=UTC:20220714T201500
DTEND;TZID=UTC:20220714T213000
DTSTAMP:20260421T050400
CREATED:20220311T142446Z
LAST-MODIFIED:20220311T142544Z
UID:418-1657829700-1657834200@www.familiekerkwalcheren.nl
SUMMARY:Tijd van gebed
DESCRIPTION:
URL:https://www.familiekerkwalcheren.nl/evenement/tijd-van-gebed-2022-07-14/
END:VEVENT
BEGIN:VEVENT
DTSTART;TZID=UTC:20220710T100000
DTEND;TZID=UTC:20220710T120000
DTSTAMP:20260421T050400
CREATED:20220311T141837Z
LAST-MODIFIED:20220311T141837Z
UID:402-1657447200-1657454400@www.familiekerkwalcheren.nl
SUMMARY:Ontmoeting op zondag
DESCRIPTION:
URL:https://www.familiekerkwalcheren.nl/evenement/ontmoeting-op-zondag-2022-07-10/
END:VEVENT
BEGIN:VEVENT
DTSTART;TZID=UTC:20220630T201500
DTEND;TZID=UTC:20220630T213000
DTSTAMP:20260421T050400
CREATED:20220311T142446Z
LAST-MODIFIED:20220311T142543Z
UID:417-1656620100-1656624600@www.familiekerkwalcheren.nl
SUMMARY:Tijd van gebed
DESCRIPTION:
URL:https://www.familiekerkwalcheren.nl/evenement/tijd-van-gebed-2022-06-30/
END:VEVENT
BEGIN:VEVENT
DTSTART;TZID=UTC:20220626T100000
DTEND;TZID=UTC:20220626T120000
DTSTAMP:20260421T050400
CREATED:20220311T142044Z
LAST-MODIFIED:20220311T142044Z
UID:407-1656237600-1656244800@www.familiekerkwalcheren.nl
SUMMARY:Ontmoeting op zondag
DESCRIPTION:
URL:https://www.familiekerkwalcheren.nl/evenement/ontmoeting-op-zondag-2-2022-06-26/
END:VEVENT
BEGIN:VEVENT
DTSTART;TZID=UTC:20220616T201500
DTEND;TZID=UTC:20220616T213000
DTSTAMP:20260421T050400
CREATED:20220311T142446Z
LAST-MODIFIED:20220311T142542Z
UID:416-1655410500-1655415000@www.familiekerkwalcheren.nl
SUMMARY:Tijd van gebed
DESCRIPTION:
URL:https://www.familiekerkwalcheren.nl/evenement/tijd-van-gebed-2022-06-16/
END:VEVENT
BEGIN:VEVENT
DTSTART;TZID=UTC:20220612T100000
DTEND;TZID=UTC:20220612T120000
DTSTAMP:20260421T050400
CREATED:20220311T141837Z
LAST-MODIFIED:20220311T141837Z
UID:401-1655028000-1655035200@www.familiekerkwalcheren.nl
SUMMARY:Ontmoeting op zondag
DESCRIPTION:
URL:https://www.familiekerkwalcheren.nl/evenement/ontmoeting-op-zondag-2022-06-12/
END:VEVENT
BEGIN:VEVENT
DTSTART;TZID=UTC:20220602T201500
DTEND;TZID=UTC:20220602T213000
DTSTAMP:20260421T050400
CREATED:20220311T142446Z
LAST-MODIFIED:20220311T142540Z
UID:415-1654200900-1654205400@www.familiekerkwalcheren.nl
SUMMARY:Tijd van gebed
DESCRIPTION:
URL:https://www.familiekerkwalcheren.nl/evenement/tijd-van-gebed-2022-06-02/
END:VEVENT
BEGIN:VEVENT
DTSTART;TZID=UTC:20220522T100000
DTEND;TZID=UTC:20220522T120000
DTSTAMP:20260421T050400
CREATED:20220311T142044Z
LAST-MODIFIED:20220311T142044Z
UID:406-1653213600-1653220800@www.familiekerkwalcheren.nl
SUMMARY:Ontmoeting op zondag
DESCRIPTION:
URL:https://www.familiekerkwalcheren.nl/evenement/ontmoeting-op-zondag-2-2022-05-22/
END:VEVENT
BEGIN:VEVENT
DTSTART;TZID=UTC:20220519T201500
DTEND;TZID=UTC:20220519T213000
DTSTAMP:20260421T050400
CREATED:20220311T142446Z
LAST-MODIFIED:20220311T142539Z
UID:414-1652991300-1652995800@www.familiekerkwalcheren.nl
SUMMARY:Tijd van gebed
DESCRIPTION:
URL:https://www.familiekerkwalcheren.nl/evenement/tijd-van-gebed-2022-05-19/
END:VEVENT
BEGIN:VEVENT
DTSTART;TZID=UTC:20220508T100000
DTEND;TZID=UTC:20220508T120000
DTSTAMP:20260421T050400
CREATED:20220311T141837Z
LAST-MODIFIED:20220311T141837Z
UID:400-1652004000-1652011200@www.familiekerkwalcheren.nl
SUMMARY:Ontmoeting op zondag
DESCRIPTION:
URL:https://www.familiekerkwalcheren.nl/evenement/ontmoeting-op-zondag-2022-05-08/
END:VEVENT
BEGIN:VEVENT
DTSTART;TZID=UTC:20220505T201500
DTEND;TZID=UTC:20220505T213000
DTSTAMP:20260421T050400
CREATED:20220311T142446Z
LAST-MODIFIED:20220311T142537Z
UID:413-1651781700-1651786200@www.familiekerkwalcheren.nl
SUMMARY:Tijd van gebed
DESCRIPTION:
URL:https://www.familiekerkwalcheren.nl/evenement/tijd-van-gebed-2022-05-05/
END:VEVENT
BEGIN:VEVENT
DTSTART;TZID=UTC:20220424T100000
DTEND;TZID=UTC:20220424T120000
DTSTAMP:20260421T050400
CREATED:20220311T142044Z
LAST-MODIFIED:20220311T142044Z
UID:405-1650794400-1650801600@www.familiekerkwalcheren.nl
SUMMARY:Ontmoeting op zondag
DESCRIPTION:
URL:https://www.familiekerkwalcheren.nl/evenement/ontmoeting-op-zondag-2-2022-04-24/
END:VEVENT
BEGIN:VEVENT
DTSTART;TZID=UTC:20220421T201500
DTEND;TZID=UTC:20220421T213000
DTSTAMP:20260421T050400
CREATED:20220311T142446Z
LAST-MODIFIED:20220311T142536Z
UID:412-1650572100-1650576600@www.familiekerkwalcheren.nl
SUMMARY:Tijd van gebed
DESCRIPTION:
URL:https://www.familiekerkwalcheren.nl/evenement/tijd-van-gebed-2022-04-21/
END:VEVENT
BEGIN:VEVENT
DTSTART;TZID=UTC:20220410T100000
DTEND;TZID=UTC:20220410T120000
DTSTAMP:20260421T050400
CREATED:20220311T141837Z
LAST-MODIFIED:20220311T141837Z
UID:399-1649584800-1649592000@www.familiekerkwalcheren.nl
SUMMARY:Ontmoeting op zondag
DESCRIPTION:
URL:https://www.familiekerkwalcheren.nl/evenement/ontmoeting-op-zondag-2022-04-10/
END:VEVENT
BEGIN:VEVENT
DTSTART;TZID=UTC:20220407T201500
DTEND;TZID=UTC:20220407T213000
DTSTAMP:20260421T050400
CREATED:20220311T142446Z
LAST-MODIFIED:20220311T142534Z
UID:411-1649362500-1649367000@www.familiekerkwalcheren.nl
SUMMARY:Tijd van gebed
DESCRIPTION:
URL:https://www.familiekerkwalcheren.nl/evenement/tijd-van-gebed-2022-04-07/
END:VEVENT
BEGIN:VEVENT
DTSTART;TZID=UTC:20220402T100000
DTEND;TZID=UTC:20220402T173000
DTSTAMP:20260421T050400
CREATED:20220301T110303Z
LAST-MODIFIED:20220401T094400Z
UID:196-1648893600-1648920600@www.familiekerkwalcheren.nl
SUMMARY:Zeelanddag 2022
DESCRIPTION:Zeelanddag zaterdag 2 april 2022. \nSinds 3 jaar zijn we aan het pionieren op het prachtige eiland Walcheren. We komen nu in een\nnieuwe fase en zijn benieuwd naar wat God wil doen. Daarom nodigen we graag jullie als familie van\nkerken uit voor een tijd van ontmoeting en gebed. Op deze manier kunnen we jullie vertellen wie we\nzijn en wat we doen en creëren we betrokkenheid in deze fase van pionieren. We nemen graag de\ntijd om samen God te zoeken en te bidden voor deze regio.\nWe organiseren de dag op een manier die bij ons past: gezellig\, praktisch en actief. \nBen je geïnteresseerd? Geef je nu dan op! \nProgramma \n10.00    Inloop met koffie en een Zeeuwse Bolus\n(Locatie: Scholengemeenschap Nehalennia\, Kruisweg 2 in Middelburg) \n10.30    Opening en delen visie Familiekerk Walcheren \n11.00    (Gebeds) Wandeling door Middelburg \n13.00    Lunch \n13.45    Tijd van aanbidding en gebed \n15.00    Strand bij Dishoek – Uitkijkpunt Panorama van Walcheren \n17.30    Afsluiting met maaltijd voor wie wil (eigen bijdrage 5 euro p.p.) \nKinderen zijn welkom\, maar er is geen apart kinderprogramma. \n  \nHeb je je nog niet aangemeld\, maar wil je toch komen? Stuur dan even een mail naar info@familiekerkwalcheren.nl of neem contact met ons op.
URL:https://www.familiekerkwalcheren.nl/evenement/zeelanddag/
LOCATION:SSG Nehalennia\, Kruisweg 2\, Middelburg\, Nederland
END:VEVENT
END:VCALENDAR