BEGIN:VCALENDAR
VERSION:2.0
PRODID:-//Familiekerk Walcheren - ECPv6.2.8.2//NONSGML v1.0//EN
CALSCALE:GREGORIAN
METHOD:PUBLISH
X-WR-CALNAME:Familiekerk Walcheren
X-ORIGINAL-URL:https://www.familiekerkwalcheren.nl
X-WR-CALDESC:Evenementen voor Familiekerk Walcheren
REFRESH-INTERVAL;VALUE=DURATION:PT1H
X-Robots-Tag:noindex
X-PUBLISHED-TTL:PT1H
BEGIN:VTIMEZONE
TZID:UTC
BEGIN:STANDARD
TZOFFSETFROM:+0000
TZOFFSETTO:+0000
TZNAME:UTC
DTSTART:20220101T000000
END:STANDARD
END:VTIMEZONE
BEGIN:VEVENT
DTSTART;TZID=UTC:20220410T100000
DTEND;TZID=UTC:20220410T120000
DTSTAMP:20260421T045611
CREATED:20220311T141837Z
LAST-MODIFIED:20220311T141837Z
UID:399-1649584800-1649592000@www.familiekerkwalcheren.nl
SUMMARY:Ontmoeting op zondag
DESCRIPTION:
URL:https://www.familiekerkwalcheren.nl/evenement/ontmoeting-op-zondag-2022-04-10/
END:VEVENT
BEGIN:VEVENT
DTSTART;TZID=UTC:20220407T201500
DTEND;TZID=UTC:20220407T213000
DTSTAMP:20260421T045611
CREATED:20220311T142446Z
LAST-MODIFIED:20220311T142534Z
UID:411-1649362500-1649367000@www.familiekerkwalcheren.nl
SUMMARY:Tijd van gebed
DESCRIPTION:
URL:https://www.familiekerkwalcheren.nl/evenement/tijd-van-gebed-2022-04-07/
END:VEVENT
BEGIN:VEVENT
DTSTART;TZID=UTC:20220402T100000
DTEND;TZID=UTC:20220402T173000
DTSTAMP:20260421T045611
CREATED:20220301T110303Z
LAST-MODIFIED:20220401T094400Z
UID:196-1648893600-1648920600@www.familiekerkwalcheren.nl
SUMMARY:Zeelanddag 2022
DESCRIPTION:Zeelanddag zaterdag 2 april 2022. \nSinds 3 jaar zijn we aan het pionieren op het prachtige eiland Walcheren. We komen nu in een\nnieuwe fase en zijn benieuwd naar wat God wil doen. Daarom nodigen we graag jullie als familie van\nkerken uit voor een tijd van ontmoeting en gebed. Op deze manier kunnen we jullie vertellen wie we\nzijn en wat we doen en creëren we betrokkenheid in deze fase van pionieren. We nemen graag de\ntijd om samen God te zoeken en te bidden voor deze regio.\nWe organiseren de dag op een manier die bij ons past: gezellig\, praktisch en actief. \nBen je geïnteresseerd? Geef je nu dan op! \nProgramma \n10.00    Inloop met koffie en een Zeeuwse Bolus\n(Locatie: Scholengemeenschap Nehalennia\, Kruisweg 2 in Middelburg) \n10.30    Opening en delen visie Familiekerk Walcheren \n11.00    (Gebeds) Wandeling door Middelburg \n13.00    Lunch \n13.45    Tijd van aanbidding en gebed \n15.00    Strand bij Dishoek – Uitkijkpunt Panorama van Walcheren \n17.30    Afsluiting met maaltijd voor wie wil (eigen bijdrage 5 euro p.p.) \nKinderen zijn welkom\, maar er is geen apart kinderprogramma. \n  \nHeb je je nog niet aangemeld\, maar wil je toch komen? Stuur dan even een mail naar info@familiekerkwalcheren.nl of neem contact met ons op.
URL:https://www.familiekerkwalcheren.nl/evenement/zeelanddag/
LOCATION:SSG Nehalennia\, Kruisweg 2\, Middelburg\, Nederland
END:VEVENT
BEGIN:VEVENT
DTSTART;TZID=UTC:20220327T100000
DTEND;TZID=UTC:20220327T120000
DTSTAMP:20260421T045611
CREATED:20220311T142044Z
LAST-MODIFIED:20220311T142208Z
UID:403-1648375200-1648382400@www.familiekerkwalcheren.nl
SUMMARY:Ontmoeting op zondag
DESCRIPTION:
URL:https://www.familiekerkwalcheren.nl/evenement/ontmoeting-op-zondag-2/
END:VEVENT
BEGIN:VEVENT
DTSTART;TZID=UTC:20220324T201500
DTEND;TZID=UTC:20220324T213000
DTSTAMP:20260421T045611
CREATED:20220311T142446Z
LAST-MODIFIED:20220311T142532Z
UID:410-1648152900-1648157400@www.familiekerkwalcheren.nl
SUMMARY:Tijd van gebed
DESCRIPTION:
URL:https://www.familiekerkwalcheren.nl/evenement/tijd-van-gebed-2022-03-24/
END:VEVENT
BEGIN:VEVENT
DTSTART;TZID=UTC:20220313T100000
DTEND;TZID=UTC:20220313T120000
DTSTAMP:20260421T045611
CREATED:20220311T141837Z
LAST-MODIFIED:20220311T141837Z
UID:397-1647165600-1647172800@www.familiekerkwalcheren.nl
SUMMARY:Ontmoeting op zondag
DESCRIPTION:
URL:https://www.familiekerkwalcheren.nl/evenement/ontmoeting-op-zondag/
END:VEVENT
BEGIN:VEVENT
DTSTART;TZID=UTC:20220310T201500
DTEND;TZID=UTC:20220310T213000
DTSTAMP:20260421T045611
CREATED:20220311T142446Z
LAST-MODIFIED:20220311T142532Z
UID:408-1646943300-1646947800@www.familiekerkwalcheren.nl
SUMMARY:Tijd van gebed
DESCRIPTION:
URL:https://www.familiekerkwalcheren.nl/evenement/tijd-van-gebed/
END:VEVENT
END:VCALENDAR