BEGIN:VCALENDAR
VERSION:2.0
PRODID:-//Familiekerk Walcheren - ECPv6.2.8.2//NONSGML v1.0//EN
CALSCALE:GREGORIAN
METHOD:PUBLISH
X-WR-CALNAME:Familiekerk Walcheren
X-ORIGINAL-URL:https://www.familiekerkwalcheren.nl
X-WR-CALDESC:Evenementen voor Familiekerk Walcheren
REFRESH-INTERVAL;VALUE=DURATION:PT1H
X-Robots-Tag:noindex
X-PUBLISHED-TTL:PT1H
BEGIN:VTIMEZONE
TZID:UTC
BEGIN:STANDARD
TZOFFSETFROM:+0000
TZOFFSETTO:+0000
TZNAME:UTC
DTSTART:20230101T000000
END:STANDARD
END:VTIMEZONE
BEGIN:VEVENT
DTSTART;TZID=UTC:20231102T200000
DTEND;TZID=UTC:20231102T220000
DTSTAMP:20260425T194901
CREATED:20231026T080045Z
LAST-MODIFIED:20231026T080045Z
UID:746-1698955200-1698962400@www.familiekerkwalcheren.nl
SUMMARY:Kleine groep
DESCRIPTION:Kerk zijn is niet alleen op zondag\, maar de hele week. Elke donderdagavond om 20.00 uur komen wij bij elkaar in een huiskamer in Koudekerke.\nDeze avonden zijn een geweldige manier om mensen te leren kennen\, vriendschappen op te bouwen en elkaar aan te moedigen in ons geloof.\nPer avond wisselt het programma. Op de ene avond kan de nadruk meer op het bidden liggen en de andere avond meer op de Bijbel. \nGeïnteresseerd\, of wil je meer informatie? Neem contact met ons op.
URL:https://www.familiekerkwalcheren.nl/evenement/kleine-groep-25/
END:VEVENT
BEGIN:VEVENT
DTSTART;TZID=UTC:20231105T100000
DTEND;TZID=UTC:20231105T130000
DTSTAMP:20260425T194901
CREATED:20231026T075751Z
LAST-MODIFIED:20231026T075751Z
UID:738-1699178400-1699189200@www.familiekerkwalcheren.nl
SUMMARY:Ontmoeting op zondag
DESCRIPTION:Je bent van harte welkom! \nWe starten om 10.00 uur met koffie/thee. Daarna nemen we tijd om God te aanbidden en delen we het onderwijs.\nTijdens het onderwijs hebben de kinderen om de week hun eigen programma en de andere keer betrekken wij de kinderen erbij.\nNa de samenkomst lunchen wij met elkaar (Bring and Share). \nLocatie: Nehalennia SSG\, Kruisweg 2\, 4335 CT Middelburg
URL:https://www.familiekerkwalcheren.nl/evenement/ontmoeting-op-zondag-28/
LOCATION:SSG Nehalennia\, Kruisweg 2\, Middelburg\, Nederland
END:VEVENT
BEGIN:VEVENT
DTSTART;TZID=UTC:20231109T200000
DTEND;TZID=UTC:20231109T220000
DTSTAMP:20260425T194901
CREATED:20231026T080120Z
LAST-MODIFIED:20231026T080120Z
UID:748-1699560000-1699567200@www.familiekerkwalcheren.nl
SUMMARY:Kleine groep
DESCRIPTION:Kerk zijn is niet alleen op zondag\, maar de hele week. Elke donderdagavond om 20.00 uur komen wij bij elkaar in een huiskamer in Koudekerke.\nDeze avonden zijn een geweldige manier om mensen te leren kennen\, vriendschappen op te bouwen en elkaar aan te moedigen in ons geloof.\nPer avond wisselt het programma. Op de ene avond kan de nadruk meer op het bidden liggen en de andere avond meer op de Bijbel. \nGeïnteresseerd\, of wil je meer informatie? Neem contact met ons op.
URL:https://www.familiekerkwalcheren.nl/evenement/kleine-groep-26/
END:VEVENT
BEGIN:VEVENT
DTSTART;TZID=UTC:20231112T100000
DTEND;TZID=UTC:20231112T130000
DTSTAMP:20260425T194901
CREATED:20231026T075827Z
LAST-MODIFIED:20231026T075827Z
UID:740-1699783200-1699794000@www.familiekerkwalcheren.nl
SUMMARY:Ontmoeting op zondag
DESCRIPTION:Je bent van harte welkom! \nWe starten om 10.00 uur met koffie/thee. Daarna nemen we tijd om God te aanbidden en delen we het onderwijs.\nTijdens het onderwijs hebben de kinderen om de week hun eigen programma en de andere keer betrekken wij de kinderen erbij.\nNa de samenkomst lunchen wij met elkaar (Bring and Share). \nLocatie: Nehalennia SSG\, Kruisweg 2\, 4335 CT Middelburg
URL:https://www.familiekerkwalcheren.nl/evenement/ontmoeting-op-zondag-29/
LOCATION:SSG Nehalennia\, Kruisweg 2\, Middelburg\, Nederland
END:VEVENT
BEGIN:VEVENT
DTSTART;TZID=UTC:20231116T200000
DTEND;TZID=UTC:20231116T220000
DTSTAMP:20260425T194901
CREATED:20231026T080157Z
LAST-MODIFIED:20231026T080157Z
UID:750-1700164800-1700172000@www.familiekerkwalcheren.nl
SUMMARY:Kleine groep
DESCRIPTION:Kerk zijn is niet alleen op zondag\, maar de hele week. Elke donderdagavond om 20.00 uur komen wij bij elkaar in een huiskamer in Koudekerke.\nDeze avonden zijn een geweldige manier om mensen te leren kennen\, vriendschappen op te bouwen en elkaar aan te moedigen in ons geloof.\nPer avond wisselt het programma. Op de ene avond kan de nadruk meer op het bidden liggen en de andere avond meer op de Bijbel. \nGeïnteresseerd\, of wil je meer informatie? Neem contact met ons op.
URL:https://www.familiekerkwalcheren.nl/evenement/kleine-groep-27/
END:VEVENT
BEGIN:VEVENT
DTSTART;TZID=UTC:20231119T100000
DTEND;TZID=UTC:20231119T130000
DTSTAMP:20260425T194901
CREATED:20231026T075855Z
LAST-MODIFIED:20231026T075855Z
UID:742-1700388000-1700398800@www.familiekerkwalcheren.nl
SUMMARY:Ontmoeting op zondag
DESCRIPTION:Je bent van harte welkom! \nWe starten om 10.00 uur met koffie/thee. Daarna nemen we tijd om God te aanbidden en delen we het onderwijs.\nTijdens het onderwijs hebben de kinderen om de week hun eigen programma en de andere keer betrekken wij de kinderen erbij.\nNa de samenkomst lunchen wij met elkaar (Bring and Share). \nLocatie: Nehalennia SSG\, Kruisweg 2\, 4335 CT Middelburg
URL:https://www.familiekerkwalcheren.nl/evenement/ontmoeting-op-zondag-30/
LOCATION:SSG Nehalennia\, Kruisweg 2\, Middelburg\, Nederland
END:VEVENT
BEGIN:VEVENT
DTSTART;TZID=UTC:20231123T200000
DTEND;TZID=UTC:20231123T220000
DTSTAMP:20260425T194901
CREATED:20231026T080240Z
LAST-MODIFIED:20231026T080240Z
UID:752-1700769600-1700776800@www.familiekerkwalcheren.nl
SUMMARY:Kleine groep
DESCRIPTION:Kerk zijn is niet alleen op zondag\, maar de hele week. Elke donderdagavond om 20.00 uur komen wij bij elkaar in een huiskamer in Koudekerke.\nDeze avonden zijn een geweldige manier om mensen te leren kennen\, vriendschappen op te bouwen en elkaar aan te moedigen in ons geloof.\nPer avond wisselt het programma. Op de ene avond kan de nadruk meer op het bidden liggen en de andere avond meer op de Bijbel. \nGeïnteresseerd\, of wil je meer informatie? Neem contact met ons op.
URL:https://www.familiekerkwalcheren.nl/evenement/kleine-groep-28/
END:VEVENT
BEGIN:VEVENT
DTSTART;TZID=UTC:20231126T100000
DTEND;TZID=UTC:20231126T130000
DTSTAMP:20260425T194901
CREATED:20231026T075940Z
LAST-MODIFIED:20231026T075940Z
UID:744-1700992800-1701003600@www.familiekerkwalcheren.nl
SUMMARY:Ontmoeting op zondag
DESCRIPTION:Je bent van harte welkom! \nWe starten om 10.00 uur met koffie/thee. Daarna nemen we tijd om God te aanbidden en delen we het onderwijs.\nTijdens het onderwijs hebben de kinderen om de week hun eigen programma en de andere keer betrekken wij de kinderen erbij.\nNa de samenkomst lunchen wij met elkaar (Bring and Share). \nLocatie: Nehalennia SSG\, Kruisweg 2\, 4335 CT Middelburg
URL:https://www.familiekerkwalcheren.nl/evenement/ontmoeting-op-zondag-31/
LOCATION:SSG Nehalennia\, Kruisweg 2\, Middelburg\, Nederland
END:VEVENT
END:VCALENDAR