BEGIN:VCALENDAR
VERSION:2.0
PRODID:-//Familiekerk Walcheren - ECPv6.2.8.2//NONSGML v1.0//EN
CALSCALE:GREGORIAN
METHOD:PUBLISH
X-WR-CALNAME:Familiekerk Walcheren
X-ORIGINAL-URL:https://www.familiekerkwalcheren.nl
X-WR-CALDESC:Evenementen voor Familiekerk Walcheren
REFRESH-INTERVAL;VALUE=DURATION:PT1H
X-Robots-Tag:noindex
X-PUBLISHED-TTL:PT1H
BEGIN:VTIMEZONE
TZID:UTC
BEGIN:STANDARD
TZOFFSETFROM:+0000
TZOFFSETTO:+0000
TZNAME:UTC
DTSTART:20230101T000000
END:STANDARD
END:VTIMEZONE
BEGIN:VEVENT
DTSTART;TZID=UTC:20231203T100000
DTEND;TZID=UTC:20231203T130000
DTSTAMP:20260425T181624
CREATED:20231127T082718Z
LAST-MODIFIED:20231127T082718Z
UID:754-1701597600-1701608400@www.familiekerkwalcheren.nl
SUMMARY:Ontmoeting op zondag
DESCRIPTION:Je bent van harte welkom! \nWe starten om 10.00 uur met koffie/thee. Daarna nemen we tijd om God te aanbidden en delen we het onderwijs.\nTijdens het onderwijs hebben de kinderen om de week hun eigen programma en de andere keer betrekken wij de kinderen erbij.\nNa de samenkomst lunchen wij met elkaar (Bring and Share). \nLocatie: Nehalennia SSG\, Kruisweg 2\, 4335 CT Middelburg
URL:https://www.familiekerkwalcheren.nl/evenement/ontmoeting-op-zondag-32/
LOCATION:SSG Nehalennia\, Kruisweg 2\, Middelburg\, Nederland
END:VEVENT
BEGIN:VEVENT
DTSTART;TZID=UTC:20231207T200000
DTEND;TZID=UTC:20231207T220000
DTSTAMP:20260425T181624
CREATED:20231127T083746Z
LAST-MODIFIED:20231127T083746Z
UID:769-1701979200-1701986400@www.familiekerkwalcheren.nl
SUMMARY:Huisgroep
DESCRIPTION:Kerk zijn is niet alleen op zondag\, maar de hele week. Elke donderdagavond om 20.00 uur komen wij bij elkaar in een huiskamer in Koudekerke.\nDeze avonden zijn een geweldige manier om mensen te leren kennen\, vriendschappen op te bouwen en elkaar aan te moedigen in ons geloof.\nPer avond wisselt het programma. Op de ene avond kan de nadruk meer op het bidden liggen en de andere avond meer op de Bijbel. \nGeïnteresseerd\, of wil je meer informatie? Neem contact met ons op.
URL:https://www.familiekerkwalcheren.nl/evenement/huisgroep/
END:VEVENT
BEGIN:VEVENT
DTSTART;TZID=UTC:20231210T080000
DTEND;TZID=UTC:20231210T170000
DTSTAMP:20260425T181624
CREATED:20231127T082902Z
LAST-MODIFIED:20231127T083007Z
UID:756-1702195200-1702227600@www.familiekerkwalcheren.nl
SUMMARY:GEEN ontmoeting op zondag
DESCRIPTION:Zondag 10 december hebben wij geen dienst..\nWe ontmoeten je graag op zondag 17 december.
URL:https://www.familiekerkwalcheren.nl/evenement/geen-ontmoeting-op-zondag-5/
LOCATION:SSG Nehalennia\, Kruisweg 2\, Middelburg\, Nederland
END:VEVENT
BEGIN:VEVENT
DTSTART;TZID=UTC:20231214T200000
DTEND;TZID=UTC:20231214T220000
DTSTAMP:20260425T181624
CREATED:20231127T083817Z
LAST-MODIFIED:20231127T083817Z
UID:771-1702584000-1702591200@www.familiekerkwalcheren.nl
SUMMARY:Huisgroep
DESCRIPTION:Kerk zijn is niet alleen op zondag\, maar de hele week. Elke donderdagavond om 20.00 uur komen wij bij elkaar in een huiskamer in Koudekerke.\nDeze avonden zijn een geweldige manier om mensen te leren kennen\, vriendschappen op te bouwen en elkaar aan te moedigen in ons geloof.\nPer avond wisselt het programma. Op de ene avond kan de nadruk meer op het bidden liggen en de andere avond meer op de Bijbel. \nGeïnteresseerd\, of wil je meer informatie? Neem contact met ons op.
URL:https://www.familiekerkwalcheren.nl/evenement/huisgroep-2/
END:VEVENT
BEGIN:VEVENT
DTSTART;TZID=UTC:20231217T100000
DTEND;TZID=UTC:20231217T130000
DTSTAMP:20260425T181624
CREATED:20231127T083048Z
LAST-MODIFIED:20231127T083048Z
UID:759-1702807200-1702818000@www.familiekerkwalcheren.nl
SUMMARY:Ontmoeting op zondag
DESCRIPTION:Je bent van harte welkom! \nWe starten om 10.00 uur met koffie/thee. Daarna nemen we tijd om God te aanbidden en delen we het onderwijs.\nTijdens het onderwijs hebben de kinderen om de week hun eigen programma en de andere keer betrekken wij de kinderen erbij.\nNa de samenkomst lunchen wij met elkaar (Bring and Share). \nLocatie: Nehalennia SSG\, Kruisweg 2\, 4335 CT Middelburg
URL:https://www.familiekerkwalcheren.nl/evenement/ontmoeting-op-zondag-33/
LOCATION:SSG Nehalennia\, Kruisweg 2\, Middelburg\, Nederland
END:VEVENT
BEGIN:VEVENT
DTSTART;TZID=UTC:20231224T080000
DTEND;TZID=UTC:20231224T170000
DTSTAMP:20260425T181624
CREATED:20231127T083140Z
LAST-MODIFIED:20231127T083140Z
UID:761-1703404800-1703437200@www.familiekerkwalcheren.nl
SUMMARY:GEEN ontmoeting op zondag
DESCRIPTION:
URL:https://www.familiekerkwalcheren.nl/evenement/geen-ontmoeting-op-zondag-6/
END:VEVENT
BEGIN:VEVENT
DTSTART;TZID=UTC:20231225T093000
DTEND;TZID=UTC:20231225T120000
DTSTAMP:20260425T181624
CREATED:20231127T083330Z
LAST-MODIFIED:20231211T080648Z
UID:763-1703496600-1703505600@www.familiekerkwalcheren.nl
SUMMARY:1e kerstdag - Bring & Share Kerstontbijt
DESCRIPTION:Je bent van harte uitgenodigd voor Bring & Share Kerstontbijt op maandag 25 januari 2023. \nWe starten om 09.30 uur met gezamenlijk ontbijten. Tijdens het eten zingen we een aantal kerstliederen en zal er een creatieve kerstboodschap verteld worden. \nFamiliekerk Walcheren zorgt voor kerststollen en drinken. Iedereen neemt iets mee voor het ontbijt om toe te voegen aan de gemeenschappelijke maaltijd. De ervaring leert dat er altijd eten over is; mocht je niet in de gelegenheid zijn om iets mee te nemen\, ben je evengoed van harte welkom.
URL:https://www.familiekerkwalcheren.nl/evenement/1e-kerstdag-kerstontbijt/
LOCATION:SSG Nehalennia\, Kruisweg 2\, Middelburg\, Nederland
END:VEVENT
BEGIN:VEVENT
DTSTART;TZID=UTC:20231231T100000
DTEND;TZID=UTC:20231231T120000
DTSTAMP:20260425T181624
CREATED:20231127T083618Z
LAST-MODIFIED:20231127T083618Z
UID:767-1704016800-1704024000@www.familiekerkwalcheren.nl
SUMMARY:Oudjaarsdag - ontmoeting op zondag
DESCRIPTION:Je bent van harte welkom op deze laatste dag van 2023! \nWe starten om 10.00 uur met koffie/thee. Daarna nemen we tijd om God te aanbidden en delen we het onderwijs.\nTijdens het onderwijs hebben de kinderen om de week hun eigen programma en de andere keer betrekken wij de kinderen erbij. \nLocatie: Nehalennia SSG\, Kruisweg 2\, 4335 CT Middelburg
URL:https://www.familiekerkwalcheren.nl/evenement/oudjaarsdag-ontmoeting-op-zondag/
LOCATION:SSG Nehalennia\, Kruisweg 2\, Middelburg\, Nederland
END:VEVENT
END:VCALENDAR