BEGIN:VCALENDAR
VERSION:2.0
PRODID:-//Familiekerk Walcheren - ECPv6.2.8.2//NONSGML v1.0//EN
CALSCALE:GREGORIAN
METHOD:PUBLISH
X-WR-CALNAME:Familiekerk Walcheren
X-ORIGINAL-URL:https://www.familiekerkwalcheren.nl
X-WR-CALDESC:Evenementen voor Familiekerk Walcheren
REFRESH-INTERVAL;VALUE=DURATION:PT1H
X-Robots-Tag:noindex
X-PUBLISHED-TTL:PT1H
BEGIN:VTIMEZONE
TZID:UTC
BEGIN:STANDARD
TZOFFSETFROM:+0000
TZOFFSETTO:+0000
TZNAME:UTC
DTSTART:20240101T000000
END:STANDARD
END:VTIMEZONE
BEGIN:VEVENT
DTSTART;TZID=UTC:20240107T080000
DTEND;TZID=UTC:20240112T170000
DTSTAMP:20260425T163153
CREATED:20240103T145728Z
LAST-MODIFIED:20240103T145728Z
UID:849-1704614400-1705078800@www.familiekerkwalcheren.nl
SUMMARY:Gebeds- en vastenweek
DESCRIPTION:Gebeds- en vastenweek van 7 – 12 januari 2024. \nDeze week willen we apart zetten voor God en dagelijks bij elkaar komen om samen te bidden.\nDoe jij mee? \n“Er komt een onmetelijke kracht vrij als we bidden en vasten. Deze enorme kracht kan niet alleen persoonlijke levens en families veranderen\, maar ook hele steden\, landen en generaties!”
URL:https://www.familiekerkwalcheren.nl/evenement/gebeds-en-vastenweek-2/
END:VEVENT
BEGIN:VEVENT
DTSTART;TZID=UTC:20240107T100000
DTEND;TZID=UTC:20240107T130000
DTSTAMP:20260425T163153
CREATED:20240103T145251Z
LAST-MODIFIED:20240103T145251Z
UID:841-1704621600-1704632400@www.familiekerkwalcheren.nl
SUMMARY:Ontmoeting op zondag
DESCRIPTION:Je bent van harte welkom! \nWe starten om 10.00 uur met koffie/thee. Daarna nemen we tijd om God te aanbidden en delen we het onderwijs.\nTijdens het onderwijs hebben de kinderen om de week hun eigen programma en de andere keer betrekken wij de kinderen erbij.\nNa de samenkomst lunchen wij met elkaar (Bring and Share). \nLocatie: Nehalennia SSG\, Kruisweg 2\, 4335 CT Middelburg
URL:https://www.familiekerkwalcheren.nl/evenement/ontmoeting-op-zondag-34/
LOCATION:SSG Nehalennia\, Kruisweg 2\, Middelburg\, Nederland
END:VEVENT
BEGIN:VEVENT
DTSTART;TZID=UTC:20240114T100000
DTEND;TZID=UTC:20240114T130000
DTSTAMP:20260425T163153
CREATED:20240103T145341Z
LAST-MODIFIED:20240103T145341Z
UID:843-1705226400-1705237200@www.familiekerkwalcheren.nl
SUMMARY:Ontmoeting op zondag
DESCRIPTION:Je bent van harte welkom! \nWe starten om 10.00 uur met koffie/thee. Daarna nemen we tijd om God te aanbidden en delen we het onderwijs.\nTijdens het onderwijs hebben de kinderen om de week hun eigen programma en de andere keer betrekken wij de kinderen erbij.\nNa de samenkomst lunchen wij met elkaar (Bring and Share). \nLocatie: Nehalennia SSG\, Kruisweg 2\, 4335 CT Middelburg
URL:https://www.familiekerkwalcheren.nl/evenement/ontmoeting-op-zondag-35/
LOCATION:SSG Nehalennia\, Kruisweg 2\, Middelburg\, Nederland
END:VEVENT
BEGIN:VEVENT
DTSTART;TZID=UTC:20240118T200000
DTEND;TZID=UTC:20240118T213000
DTSTAMP:20260425T163153
CREATED:20240103T145928Z
LAST-MODIFIED:20240103T145928Z
UID:851-1705608000-1705613400@www.familiekerkwalcheren.nl
SUMMARY:Huisgroep
DESCRIPTION:Kerk zijn is niet alleen op zondag\, maar de hele week. Elke donderdagavond om 20.00 uur komen wij bij elkaar in een huiskamer in Koudekerke/Middelburg.\nDeze avonden zijn een geweldige manier om mensen te leren kennen\, vriendschappen op te bouwen en elkaar aan te moedigen in ons geloof.\nPer avond wisselt het programma. Op de ene avond kan de nadruk meer op het bidden liggen en de andere avond meer op de Bijbel. \nGeïnteresseerd\, of wil je meer informatie? Neem contact met ons op.
URL:https://www.familiekerkwalcheren.nl/evenement/huisgroep-3/
END:VEVENT
BEGIN:VEVENT
DTSTART;TZID=UTC:20240121T100000
DTEND;TZID=UTC:20240121T130000
DTSTAMP:20260425T163153
CREATED:20240103T145419Z
LAST-MODIFIED:20240103T145419Z
UID:845-1705831200-1705842000@www.familiekerkwalcheren.nl
SUMMARY:Ontmoeting op zondag
DESCRIPTION:Je bent van harte welkom! \nWe starten om 10.00 uur met koffie/thee. Daarna nemen we tijd om God te aanbidden en delen we het onderwijs.\nTijdens het onderwijs hebben de kinderen om de week hun eigen programma en de andere keer betrekken wij de kinderen erbij.\nNa de samenkomst lunchen wij met elkaar (Bring and Share). \nLocatie: Nehalennia SSG\, Kruisweg 2\, 4335 CT Middelburg
URL:https://www.familiekerkwalcheren.nl/evenement/ontmoeting-op-zondag-36/
LOCATION:SSG Nehalennia\, Kruisweg 2\, Middelburg\, Nederland
END:VEVENT
BEGIN:VEVENT
DTSTART;TZID=UTC:20240125T200000
DTEND;TZID=UTC:20240125T213000
DTSTAMP:20260425T163153
CREATED:20240103T150018Z
LAST-MODIFIED:20240103T150018Z
UID:853-1706212800-1706218200@www.familiekerkwalcheren.nl
SUMMARY:Huisgroep
DESCRIPTION:Kerk zijn is niet alleen op zondag\, maar de hele week. Elke donderdagavond om 20.00 uur komen wij bij elkaar in een huiskamer in Koudekerke.\nDeze avonden zijn een geweldige manier om mensen te leren kennen\, vriendschappen op te bouwen en elkaar aan te moedigen in ons geloof.\nPer avond wisselt het programma. Op de ene avond kan de nadruk meer op het bidden liggen en de andere avond meer op de Bijbel. \nGeïnteresseerd\, of wil je meer informatie? Neem contact met ons op.
URL:https://www.familiekerkwalcheren.nl/evenement/huisgroep-4/
END:VEVENT
BEGIN:VEVENT
DTSTART;TZID=UTC:20240128T100000
DTEND;TZID=UTC:20240128T130000
DTSTAMP:20260425T163153
CREATED:20240103T145516Z
LAST-MODIFIED:20240103T145516Z
UID:847-1706436000-1706446800@www.familiekerkwalcheren.nl
SUMMARY:Ontmoeting op zondag
DESCRIPTION:Je bent van harte welkom! \nWe starten om 10.00 uur met koffie/thee. Daarna nemen we tijd om God te aanbidden en delen we het onderwijs.\nTijdens het onderwijs hebben de kinderen om de week hun eigen programma en de andere keer betrekken wij de kinderen erbij.\nNa de samenkomst lunchen wij met elkaar (Bring and Share). \nLocatie: Nehalennia SSG\, Kruisweg 2\, 4335 CT Middelburg
URL:https://www.familiekerkwalcheren.nl/evenement/ontmoeting-op-zondag-37/
LOCATION:SSG Nehalennia\, Kruisweg 2\, Middelburg\, Nederland
END:VEVENT
END:VCALENDAR