BEGIN:VCALENDAR
VERSION:2.0
PRODID:-//Familiekerk Walcheren - ECPv6.2.8.2//NONSGML v1.0//EN
CALSCALE:GREGORIAN
METHOD:PUBLISH
X-ORIGINAL-URL:https://www.familiekerkwalcheren.nl
X-WR-CALDESC:Evenementen voor Familiekerk Walcheren
REFRESH-INTERVAL;VALUE=DURATION:PT1H
X-Robots-Tag:noindex
X-PUBLISHED-TTL:PT1H
BEGIN:VTIMEZONE
TZID:UTC
BEGIN:STANDARD
TZOFFSETFROM:+0000
TZOFFSETTO:+0000
TZNAME:UTC
DTSTART:20240101T000000
END:STANDARD
END:VTIMEZONE
BEGIN:VEVENT
DTSTART;TZID=UTC:20240303T100000
DTEND;TZID=UTC:20240303T130000
DTSTAMP:20260425T130851
CREATED:20240129T112909Z
LAST-MODIFIED:20240129T112909Z
UID:863-1709460000-1709470800@www.familiekerkwalcheren.nl
SUMMARY:Ontmoeting op zondag
DESCRIPTION:Je bent van harte welkom! \nWe starten om 10.00 uur met koffie/thee. Daarna nemen we tijd om God te aanbidden en delen we het onderwijs.\nTijdens het onderwijs hebben de kinderen om de week hun eigen programma en de andere keer betrekken wij de kinderen erbij.\nNa de samenkomst lunchen wij met elkaar (Bring and Share). \nLocatie: Nehalennia SSG\, Kruisweg 2\, 4335 CT Middelburg
URL:https://www.familiekerkwalcheren.nl/evenement/ontmoeting-op-zondag-42/
LOCATION:SSG Nehalennia\, Kruisweg 2\, Middelburg\, Nederland
END:VEVENT
BEGIN:VEVENT
DTSTART;TZID=UTC:20240307T200000
DTEND;TZID=UTC:20240307T220000
DTSTAMP:20260425T130851
CREATED:20240304T083712Z
LAST-MODIFIED:20240304T083712Z
UID:879-1709841600-1709848800@www.familiekerkwalcheren.nl
SUMMARY:Huisgroep
DESCRIPTION:Kerk zijn is niet alleen op zondag\, maar de hele week. Elke donderdagavond om 20.00 uur komen wij bij elkaar in een huiskamer in Koudekerke\, Middelburg of Vlissingen.\nDeze avonden zijn een geweldige manier om mensen te leren kennen\, vriendschappen op te bouwen en elkaar aan te moedigen in ons geloof.\nPer avond wisselt het programma. Op de ene avond kan de nadruk meer op het bidden liggen en de andere avond meer op de Bijbel. \nGeïnteresseerd\, of wil je meer informatie? Neem contact met ons op.
URL:https://www.familiekerkwalcheren.nl/evenement/huisgroep-8/
END:VEVENT
BEGIN:VEVENT
DTSTART;TZID=UTC:20240310T100000
DTEND;TZID=UTC:20240310T130000
DTSTAMP:20260425T130851
CREATED:20240304T083317Z
LAST-MODIFIED:20240304T083317Z
UID:871-1710064800-1710075600@www.familiekerkwalcheren.nl
SUMMARY:Ontmoeting op zondag
DESCRIPTION:Je bent van harte welkom! \nWe starten om 10.00 uur met koffie/thee. Daarna nemen we tijd om God te aanbidden en delen we het onderwijs.\nTijdens het onderwijs hebben de kinderen om de week hun eigen programma en de andere keer betrekken wij de kinderen erbij.\nNa de samenkomst lunchen wij met elkaar (Bring and Share). \nLocatie: Nehalennia SSG\, Kruisweg 2\, 4335 CT Middelburg
URL:https://www.familiekerkwalcheren.nl/evenement/ontmoeting-op-zondag-43/
LOCATION:SSG Nehalennia\, Kruisweg 2\, Middelburg\, Nederland
END:VEVENT
BEGIN:VEVENT
DTSTART;TZID=UTC:20240314T200000
DTEND;TZID=UTC:20240314T220000
DTSTAMP:20260425T130851
CREATED:20240304T083755Z
LAST-MODIFIED:20240304T083755Z
UID:881-1710446400-1710453600@www.familiekerkwalcheren.nl
SUMMARY:Huisgroep
DESCRIPTION:Kerk zijn is niet alleen op zondag\, maar de hele week. Elke donderdagavond om 20.00 uur komen wij bij elkaar in een huiskamer in Koudekerke\, Middelburg of Vlissingen.\nDeze avonden zijn een geweldige manier om mensen te leren kennen\, vriendschappen op te bouwen en elkaar aan te moedigen in ons geloof.\nPer avond wisselt het programma. Op de ene avond kan de nadruk meer op het bidden liggen en de andere avond meer op de Bijbel. \nGeïnteresseerd\, of wil je meer informatie? Neem contact met ons op.
URL:https://www.familiekerkwalcheren.nl/evenement/huisgroep-9/
END:VEVENT
BEGIN:VEVENT
DTSTART;TZID=UTC:20240317T100000
DTEND;TZID=UTC:20240317T130000
DTSTAMP:20260425T130851
CREATED:20240304T083347Z
LAST-MODIFIED:20240304T083347Z
UID:873-1710669600-1710680400@www.familiekerkwalcheren.nl
SUMMARY:Ontmoeting op zondag
DESCRIPTION:Je bent van harte welkom! \nWe starten om 10.00 uur met koffie/thee. Daarna nemen we tijd om God te aanbidden en delen we het onderwijs.\nTijdens het onderwijs hebben de kinderen om de week hun eigen programma en de andere keer betrekken wij de kinderen erbij.\nNa de samenkomst lunchen wij met elkaar (Bring and Share). \nLocatie: Nehalennia SSG\, Kruisweg 2\, 4335 CT Middelburg
URL:https://www.familiekerkwalcheren.nl/evenement/ontmoeting-op-zondag-44/
LOCATION:SSG Nehalennia\, Kruisweg 2\, Middelburg\, Nederland
END:VEVENT
BEGIN:VEVENT
DTSTART;TZID=UTC:20240321T200000
DTEND;TZID=UTC:20240321T220000
DTSTAMP:20260425T130851
CREATED:20240304T083849Z
LAST-MODIFIED:20240304T083849Z
UID:883-1711051200-1711058400@www.familiekerkwalcheren.nl
SUMMARY:Huisgroep
DESCRIPTION:Kerk zijn is niet alleen op zondag\, maar de hele week. Elke donderdagavond om 20.00 uur komen wij bij elkaar in een huiskamer in Koudekerke\, Middelburg of Vlissingen.\nDeze avonden zijn een geweldige manier om mensen te leren kennen\, vriendschappen op te bouwen en elkaar aan te moedigen in ons geloof.\nPer avond wisselt het programma. Op de ene avond kan de nadruk meer op het bidden liggen en de andere avond meer op de Bijbel. \nGeïnteresseerd\, of wil je meer informatie? Neem contact met ons op.
URL:https://www.familiekerkwalcheren.nl/evenement/huisgroep-10/
END:VEVENT
BEGIN:VEVENT
DTSTART;TZID=UTC:20240324T100000
DTEND;TZID=UTC:20240324T130000
DTSTAMP:20260425T130851
CREATED:20240304T083435Z
LAST-MODIFIED:20240304T083435Z
UID:875-1711274400-1711285200@www.familiekerkwalcheren.nl
SUMMARY:Ontmoeting op zondag
DESCRIPTION:Je bent van harte welkom! \nWe starten om 10.00 uur met koffie/thee. Daarna nemen we tijd om God te aanbidden en delen we het onderwijs.\nTijdens het onderwijs hebben de kinderen om de week hun eigen programma en de andere keer betrekken wij de kinderen erbij.\nNa de samenkomst lunchen wij met elkaar (Bring and Share). \nLocatie: Nehalennia SSG\, Kruisweg 2\, 4335 CT Middelburg
URL:https://www.familiekerkwalcheren.nl/evenement/ontmoeting-op-zondag-45/
LOCATION:SSG Nehalennia\, Kruisweg 2\, Middelburg\, Nederland
END:VEVENT
BEGIN:VEVENT
DTSTART;TZID=UTC:20240328T200000
DTEND;TZID=UTC:20240328T220000
DTSTAMP:20260425T130851
CREATED:20240304T083918Z
LAST-MODIFIED:20240304T083918Z
UID:885-1711656000-1711663200@www.familiekerkwalcheren.nl
SUMMARY:Huisgroep
DESCRIPTION:Kerk zijn is niet alleen op zondag\, maar de hele week. Elke donderdagavond om 20.00 uur komen wij bij elkaar in een huiskamer in Koudekerke\, Middelburg of Vlissingen.\nDeze avonden zijn een geweldige manier om mensen te leren kennen\, vriendschappen op te bouwen en elkaar aan te moedigen in ons geloof.\nPer avond wisselt het programma. Op de ene avond kan de nadruk meer op het bidden liggen en de andere avond meer op de Bijbel. \nGeïnteresseerd\, of wil je meer informatie? Neem contact met ons op.
URL:https://www.familiekerkwalcheren.nl/evenement/huisgroep-11/
END:VEVENT
BEGIN:VEVENT
DTSTART;TZID=UTC:20240331T093000
DTEND;TZID=UTC:20240331T120000
DTSTAMP:20260425T130851
CREATED:20240324T183347Z
LAST-MODIFIED:20240324T183634Z
UID:892-1711877400-1711886400@www.familiekerkwalcheren.nl
SUMMARY:Hij leeft! - Paasviering
DESCRIPTION:De Heer is waarlijk opgestaan!  \nWe starten om 9.30 uur met een bring & share paasontbijt. Aansluitend is er een paasdienst. \nFamiliekerk Walcheren zorgt voor paasstollen en drinken. Iedereen neemt iets mee voor het ontbijt om toe te voegen aan de gemeenschappelijke maaltijd. De ervaring leert dat er altijd eten over is; mocht je niet in de gelegenheid zijn om iets mee te nemen\, ben je evengoed van harte welkom.
URL:https://www.familiekerkwalcheren.nl/evenement/hij-leeft-paas/
LOCATION:SSG Nehalennia\, Kruisweg 2\, Middelburg\, Nederland
END:VEVENT
END:VCALENDAR