BEGIN:VCALENDAR
VERSION:2.0
PRODID:-//Familiekerk Walcheren - ECPv6.2.8.2//NONSGML v1.0//EN
CALSCALE:GREGORIAN
METHOD:PUBLISH
X-ORIGINAL-URL:https://www.familiekerkwalcheren.nl
X-WR-CALDESC:Evenementen voor Familiekerk Walcheren
REFRESH-INTERVAL;VALUE=DURATION:PT1H
X-Robots-Tag:noindex
X-PUBLISHED-TTL:PT1H
BEGIN:VTIMEZONE
TZID:UTC
BEGIN:STANDARD
TZOFFSETFROM:+0000
TZOFFSETTO:+0000
TZNAME:UTC
DTSTART:20240101T000000
END:STANDARD
END:VTIMEZONE
BEGIN:VEVENT
DTSTART;TZID=UTC:20241003T200000
DTEND;TZID=UTC:20241003T220000
DTSTAMP:20260423T002551
CREATED:20240924T104523Z
LAST-MODIFIED:20240924T104523Z
UID:958-1727985600-1727992800@www.familiekerkwalcheren.nl
SUMMARY:Huisgroep
DESCRIPTION:Kerk zijn is niet alleen op zondag\, maar de hele week. Elke donderdagavond om 20.00 uur komen wij bij elkaar in een huiskamer in Koudekerke\, Middelburg of Vlissingen.\nDeze avonden zijn een geweldige manier om mensen te leren kennen\, vriendschappen op te bouwen en elkaar aan te moedigen in ons geloof.\nPer avond wisselt het programma. Op de ene avond kan de nadruk meer op het bidden liggen en de andere avond meer op de Bijbel. \nGeïnteresseerd\, of wil je meer informatie? Neem contact met ons op.
URL:https://www.familiekerkwalcheren.nl/evenement/huisgroep-16/
END:VEVENT
BEGIN:VEVENT
DTSTART;TZID=UTC:20241006T100000
DTEND;TZID=UTC:20241006T130000
DTSTAMP:20260423T002551
CREATED:20240924T104034Z
LAST-MODIFIED:20240924T104034Z
UID:946-1728208800-1728219600@www.familiekerkwalcheren.nl
SUMMARY:Ontmoeting op zondag
DESCRIPTION:Je bent van harte welkom! \nWe starten om 10.00 uur met koffie/thee. Daarna nemen we tijd om God te aanbidden en delen we het onderwijs.\nTijdens het onderwijs hebben de kinderen om de week hun eigen programma en de andere keer betrekken wij de kinderen erbij.\nNa de samenkomst lunchen wij met elkaar (Bring and Share). \nLocatie: Nehalennia SSG\, Kruisweg 2\, 4335 CT Middelburg
URL:https://www.familiekerkwalcheren.nl/evenement/ontmoeting-op-zondag-60/
LOCATION:SSG Nehalennia\, Kruisweg 2\, Middelburg\, Nederland
END:VEVENT
BEGIN:VEVENT
DTSTART;TZID=UTC:20241010T200000
DTEND;TZID=UTC:20241010T220000
DTSTAMP:20260423T002551
CREATED:20240924T104554Z
LAST-MODIFIED:20240924T104554Z
UID:960-1728590400-1728597600@www.familiekerkwalcheren.nl
SUMMARY:Huisgroep
DESCRIPTION:Kerk zijn is niet alleen op zondag\, maar de hele week. Elke donderdagavond om 20.00 uur komen wij bij elkaar in een huiskamer in Koudekerke\, Middelburg of Vlissingen.\nDeze avonden zijn een geweldige manier om mensen te leren kennen\, vriendschappen op te bouwen en elkaar aan te moedigen in ons geloof.\nPer avond wisselt het programma. Op de ene avond kan de nadruk meer op het bidden liggen en de andere avond meer op de Bijbel. \nGeïnteresseerd\, of wil je meer informatie? Neem contact met ons op.
URL:https://www.familiekerkwalcheren.nl/evenement/huisgroep-17/
END:VEVENT
BEGIN:VEVENT
DTSTART;TZID=UTC:20241013T100000
DTEND;TZID=UTC:20241013T130000
DTSTAMP:20260423T002551
CREATED:20240924T104110Z
LAST-MODIFIED:20240924T104110Z
UID:948-1728813600-1728824400@www.familiekerkwalcheren.nl
SUMMARY:Ontmoeting op zondag
DESCRIPTION:Je bent van harte welkom! \nWe starten om 10.00 uur met koffie/thee. Daarna nemen we tijd om God te aanbidden en delen we het onderwijs.\nTijdens het onderwijs hebben de kinderen om de week hun eigen programma en de andere keer betrekken wij de kinderen erbij.\nNa de samenkomst lunchen wij met elkaar (Bring and Share). \nLocatie: Nehalennia SSG\, Kruisweg 2\, 4335 CT Middelburg
URL:https://www.familiekerkwalcheren.nl/evenement/ontmoeting-op-zondag-61/
LOCATION:SSG Nehalennia\, Kruisweg 2\, Middelburg\, Nederland
END:VEVENT
BEGIN:VEVENT
DTSTART;TZID=UTC:20241017T200000
DTEND;TZID=UTC:20241017T220000
DTSTAMP:20260423T002551
CREATED:20240924T104626Z
LAST-MODIFIED:20240924T104626Z
UID:962-1729195200-1729202400@www.familiekerkwalcheren.nl
SUMMARY:Huisgroep
DESCRIPTION:Kerk zijn is niet alleen op zondag\, maar de hele week. Elke donderdagavond om 20.00 uur komen wij bij elkaar in een huiskamer in Koudekerke\, Middelburg of Vlissingen.\nDeze avonden zijn een geweldige manier om mensen te leren kennen\, vriendschappen op te bouwen en elkaar aan te moedigen in ons geloof.\nPer avond wisselt het programma. Op de ene avond kan de nadruk meer op het bidden liggen en de andere avond meer op de Bijbel. \nGeïnteresseerd\, of wil je meer informatie? Neem contact met ons op.
URL:https://www.familiekerkwalcheren.nl/evenement/huisgroep-18/
END:VEVENT
BEGIN:VEVENT
DTSTART;TZID=UTC:20241020T100000
DTEND;TZID=UTC:20241020T120000
DTSTAMP:20260423T002551
CREATED:20240924T104256Z
LAST-MODIFIED:20240924T104256Z
UID:952-1729418400-1729425600@www.familiekerkwalcheren.nl
SUMMARY:Ontmoeting op zondag - Wandelen
DESCRIPTION:Ivm de herfstvakantie gaan we vandaag wandelen met elkaar.
URL:https://www.familiekerkwalcheren.nl/evenement/ontmoeting-op-zondag-wandelen/
END:VEVENT
BEGIN:VEVENT
DTSTART;TZID=UTC:20241027T100000
DTEND;TZID=UTC:20241027T130000
DTSTAMP:20260423T002551
CREATED:20240924T104329Z
LAST-MODIFIED:20241021T064053Z
UID:954-1730023200-1730034000@www.familiekerkwalcheren.nl
SUMMARY:Ontmoeting op zondag - huiskamer
DESCRIPTION:Ivm de vakantie\, komen we deze zondag bij elkaar in de huiskamers.
URL:https://www.familiekerkwalcheren.nl/evenement/ontmoeting-op-zondag-63/
LOCATION:SSG Nehalennia\, Kruisweg 2\, Middelburg\, Nederland
END:VEVENT
BEGIN:VEVENT
DTSTART;TZID=UTC:20241031T200000
DTEND;TZID=UTC:20241031T220000
DTSTAMP:20260423T002551
CREATED:20240924T104657Z
LAST-MODIFIED:20240924T104657Z
UID:964-1730404800-1730412000@www.familiekerkwalcheren.nl
SUMMARY:Huisgroep
DESCRIPTION:Kerk zijn is niet alleen op zondag\, maar de hele week. Elke donderdagavond om 20.00 uur komen wij bij elkaar in een huiskamer in Koudekerke\, Middelburg of Vlissingen.\nDeze avonden zijn een geweldige manier om mensen te leren kennen\, vriendschappen op te bouwen en elkaar aan te moedigen in ons geloof.\nPer avond wisselt het programma. Op de ene avond kan de nadruk meer op het bidden liggen en de andere avond meer op de Bijbel. \nGeïnteresseerd\, of wil je meer informatie? Neem contact met ons op.
URL:https://www.familiekerkwalcheren.nl/evenement/huisgroep-19/
END:VEVENT
END:VCALENDAR