BEGIN:VCALENDAR
VERSION:2.0
PRODID:-//Familiekerk Walcheren - ECPv6.2.8.2//NONSGML v1.0//EN
CALSCALE:GREGORIAN
METHOD:PUBLISH
X-WR-CALNAME:Familiekerk Walcheren
X-ORIGINAL-URL:https://www.familiekerkwalcheren.nl
X-WR-CALDESC:Evenementen voor Familiekerk Walcheren
REFRESH-INTERVAL;VALUE=DURATION:PT1H
X-Robots-Tag:noindex
X-PUBLISHED-TTL:PT1H
BEGIN:VTIMEZONE
TZID:UTC
BEGIN:STANDARD
TZOFFSETFROM:+0000
TZOFFSETTO:+0000
TZNAME:UTC
DTSTART:20240101T000000
END:STANDARD
END:VTIMEZONE
BEGIN:VEVENT
DTSTART;TZID=UTC:20241201T100000
DTEND;TZID=UTC:20241201T130000
DTSTAMP:20260422T212022
CREATED:20241028T103215Z
LAST-MODIFIED:20241028T103215Z
UID:975-1733047200-1733058000@www.familiekerkwalcheren.nl
SUMMARY:Ontmoeting op zondag
DESCRIPTION:Je bent van harte welkom! \nWe starten om 10.00 uur met koffie/thee. Daarna nemen we tijd om God te aanbidden en delen we het onderwijs.\nTijdens het onderwijs hebben de kinderen om de week hun eigen programma en de andere keer betrekken wij de kinderen erbij.\nNa de samenkomst lunchen wij met elkaar (Bring and Share). Voel je vrij om aan te sluiten of naar huis te gaan. \nLocatie: Nehalennia SSG\, Kruisweg 2\, 4335 CT Middelburg
URL:https://www.familiekerkwalcheren.nl/evenement/ontmoeting-op-zondag-66/
LOCATION:SSG Nehalennia\, Kruisweg 2\, Middelburg\, Nederland
END:VEVENT
BEGIN:VEVENT
DTSTART;TZID=UTC:20241208T100000
DTEND;TZID=UTC:20241208T130000
DTSTAMP:20260422T212022
CREATED:20241028T103249Z
LAST-MODIFIED:20241028T103249Z
UID:977-1733652000-1733662800@www.familiekerkwalcheren.nl
SUMMARY:Ontmoeting op zondag
DESCRIPTION:Je bent van harte welkom! \nWe starten om 10.00 uur met koffie/thee. Daarna nemen we tijd om God te aanbidden en delen we het onderwijs.\nTijdens het onderwijs hebben de kinderen om de week hun eigen programma en de andere keer betrekken wij de kinderen erbij.\nNa de samenkomst lunchen wij met elkaar (Bring and Share). Voel je vrij om aan te sluiten of naar huis te gaan. \nLocatie: Nehalennia SSG\, Kruisweg 2\, 4335 CT Middelburg
URL:https://www.familiekerkwalcheren.nl/evenement/ontmoeting-op-zondag-67/
LOCATION:SSG Nehalennia\, Kruisweg 2\, Middelburg\, Nederland
END:VEVENT
BEGIN:VEVENT
DTSTART;TZID=UTC:20241212T200000
DTEND;TZID=UTC:20241212T220000
DTSTAMP:20260422T212022
CREATED:20241028T103544Z
LAST-MODIFIED:20241114T080854Z
UID:986-1734033600-1734040800@www.familiekerkwalcheren.nl
SUMMARY:Huisgroep
DESCRIPTION:Kerk zijn is niet alleen op zondag\, maar de hele week. Elke donderdagavond om 20.00 uur komen wij bij elkaar in een huiskamer in Koudekerke\, Middelburg of Vlissingen.\nDeze avonden zijn een geweldige manier om mensen te leren kennen\, vriendschappen op te bouwen en elkaar aan te moedigen in ons geloof.\nPer avond wisselt het programma. Op de ene avond kan de nadruk meer op het bidden liggen en de andere avond meer op de Bijbel. \nGeïnteresseerd\, of wil je meer informatie? Neem contact met ons op.
URL:https://www.familiekerkwalcheren.nl/evenement/huisgroep-23/
END:VEVENT
BEGIN:VEVENT
DTSTART;TZID=UTC:20241215T100000
DTEND;TZID=UTC:20241215T130000
DTSTAMP:20260422T212022
CREATED:20241209T181203Z
LAST-MODIFIED:20241209T181203Z
UID:993-1734256800-1734267600@www.familiekerkwalcheren.nl
SUMMARY:Ontmoeting op zondag
DESCRIPTION:Je bent van harte welkom! \nWe starten om 10.00 uur met koffie/thee. Daarna nemen we tijd om God te aanbidden en delen we het onderwijs.\nTijdens het onderwijs hebben de kinderen om de week hun eigen programma en de andere keer betrekken wij de kinderen erbij.\nNa de samenkomst lunchen wij met elkaar (Bring and Share). Voel je vrij om aan te sluiten of naar huis te gaan. \nLocatie: Nehalennia SSG\, Kruisweg 2\, 4335 CT Middelburg
URL:https://www.familiekerkwalcheren.nl/evenement/ontmoeting-op-zondag-68/
LOCATION:SSG Nehalennia\, Kruisweg 2\, Middelburg\, Nederland
END:VEVENT
BEGIN:VEVENT
DTSTART;TZID=UTC:20241222T143000
DTEND;TZID=UTC:20241222T170000
DTSTAMP:20260422T212022
CREATED:20231127T083431Z
LAST-MODIFIED:20241222T100703Z
UID:765-1734877800-1734886800@www.familiekerkwalcheren.nl
SUMMARY:Kerst high tea
DESCRIPTION:Je bent van harte uitgenodigd op zondag 22 december 2024. \nKom Kerst met ons vieren tijdens een High Tea die we samen zullen bereiden. Misschien anders dan je gewend bent\, maar samen koken/bakken en eten verbindt!\nTijdens de high tea zullen we stilstaan bij de geboorte van Jezus. \nFamiliekerk Walcheren zorgt voor alle recepten en ingredienten\, daarom zou het fijn zijn als je aangeeft met hoeveel personen je komt.\nHeb je dieetwensen of allergieen. Geef dit dan ook even door. \n 
URL:https://www.familiekerkwalcheren.nl/evenement/kerst-high-tea/
LOCATION:SSG Nehalennia\, Kruisweg 2\, Middelburg\, Nederland
ATTACH;FMTTYPE=image/jpeg:https://www.familiekerkwalcheren.nl/wp-content/uploads/2023/11/kerst-high-tea.jpg
END:VEVENT
BEGIN:VEVENT
DTSTART;VALUE=DATE:20241229
DTEND;VALUE=DATE:20241230
DTSTAMP:20260422T212022
CREATED:20241209T181436Z
LAST-MODIFIED:20241209T181436Z
UID:999-1735430400-1735516799@www.familiekerkwalcheren.nl
SUMMARY:GEEN ontmoeting op zondag
DESCRIPTION:In verband met de kerstvakantie is er geen ontmoeting op zondag. \nWe zien je graag op zondag 5 januari 2025!
URL:https://www.familiekerkwalcheren.nl/evenement/geen-ontmoeting-op-zondag-10/
END:VEVENT
END:VCALENDAR