BEGIN:VCALENDAR
VERSION:2.0
PRODID:-//Familiekerk Walcheren - ECPv6.2.8.2//NONSGML v1.0//EN
CALSCALE:GREGORIAN
METHOD:PUBLISH
X-ORIGINAL-URL:https://www.familiekerkwalcheren.nl
X-WR-CALDESC:Evenementen voor Familiekerk Walcheren
REFRESH-INTERVAL;VALUE=DURATION:PT1H
X-Robots-Tag:noindex
X-PUBLISHED-TTL:PT1H
BEGIN:VTIMEZONE
TZID:UTC
BEGIN:STANDARD
TZOFFSETFROM:+0000
TZOFFSETTO:+0000
TZNAME:UTC
DTSTART:20250101T000000
END:STANDARD
END:VTIMEZONE
BEGIN:VEVENT
DTSTART;TZID=UTC:20250403T200000
DTEND;TZID=UTC:20250403T220000
DTSTAMP:20260422T145644
CREATED:20250317T180325Z
LAST-MODIFIED:20250317T180325Z
UID:1078-1743710400-1743717600@www.familiekerkwalcheren.nl
SUMMARY:Huisgroep
DESCRIPTION:Kerk zijn is niet alleen op zondag\, maar de hele week. Elke donderdagavond om 20.00 uur komen wij bij elkaar in een huiskamer in Koudekerke\, Middelburg of Vlissingen. \nDeze avonden zijn een geweldige manier om mensen te leren kennen\, vriendschappen op te bouwen en elkaar aan te moedigen in ons geloof.\nPer avond wisselt het programma. Op de ene avond kan de nadruk meer op het bidden liggen en de andere avond meer op de Bijbel. \nGeïnteresseerd\, of wil je meer informatie? Neem contact met ons op.
URL:https://www.familiekerkwalcheren.nl/evenement/huisgroep-29/
END:VEVENT
BEGIN:VEVENT
DTSTART;TZID=UTC:20250406T100000
DTEND;TZID=UTC:20250406T130000
DTSTAMP:20260422T145644
CREATED:20250317T175939Z
LAST-MODIFIED:20250317T175939Z
UID:1070-1743933600-1743944400@www.familiekerkwalcheren.nl
SUMMARY:Ontmoeting op zondag
DESCRIPTION:Je bent van harte welkom! \nWe starten om 10.00 uur met koffie/thee. Daarna nemen we tijd om God te aanbidden en delen we het onderwijs.\nTijdens het onderwijs hebben de kinderen om de week hun eigen programma en de andere keer betrekken wij de kinderen erbij.\nNa de samenkomst lunchen wij met elkaar (Bring and Share). Voel je vrij om aan te sluiten of naar huis te gaan. \nLocatie: Nehalennia SSG\, Kruisweg 2\, 4335 CT Middelburg
URL:https://www.familiekerkwalcheren.nl/evenement/ontmoeting-op-zondag-81/
LOCATION:SSG Nehalennia\, Kruisweg 2\, Middelburg\, Nederland
END:VEVENT
BEGIN:VEVENT
DTSTART;TZID=UTC:20250410T200000
DTEND;TZID=UTC:20250410T220000
DTSTAMP:20260422T145644
CREATED:20250317T180401Z
LAST-MODIFIED:20250317T180401Z
UID:1080-1744315200-1744322400@www.familiekerkwalcheren.nl
SUMMARY:Huisgroep
DESCRIPTION:Kerk zijn is niet alleen op zondag\, maar de hele week. Elke donderdagavond om 20.00 uur komen wij bij elkaar in een huiskamer in Koudekerke\, Middelburg of Vlissingen. \nDeze avonden zijn een geweldige manier om mensen te leren kennen\, vriendschappen op te bouwen en elkaar aan te moedigen in ons geloof.\nPer avond wisselt het programma. Op de ene avond kan de nadruk meer op het bidden liggen en de andere avond meer op de Bijbel. \nGeïnteresseerd\, of wil je meer informatie? Neem contact met ons op.
URL:https://www.familiekerkwalcheren.nl/evenement/huisgroep-30/
END:VEVENT
BEGIN:VEVENT
DTSTART;TZID=UTC:20250413T100000
DTEND;TZID=UTC:20250413T130000
DTSTAMP:20260422T145644
CREATED:20250317T180033Z
LAST-MODIFIED:20250317T180033Z
UID:1072-1744538400-1744549200@www.familiekerkwalcheren.nl
SUMMARY:Ontmoeting op zondag
DESCRIPTION:Je bent van harte welkom! \nWe starten om 10.00 uur met koffie/thee. Daarna nemen we tijd om God te aanbidden en delen we het onderwijs.\nTijdens het onderwijs hebben de kinderen om de week hun eigen programma en de andere keer betrekken wij de kinderen erbij.\nNa de samenkomst lunchen wij met elkaar (Bring and Share). Voel je vrij om aan te sluiten of naar huis te gaan. \nLocatie: Nehalennia SSG\, Kruisweg 2\, 4335 CT Middelburg
URL:https://www.familiekerkwalcheren.nl/evenement/ontmoeting-op-zondag-82/
LOCATION:SSG Nehalennia\, Kruisweg 2\, Middelburg\, Nederland
END:VEVENT
BEGIN:VEVENT
DTSTART;TZID=UTC:20250414T100000
DTEND;TZID=UTC:20250414T113000
DTSTAMP:20260422T145644
CREATED:20250414T101043Z
LAST-MODIFIED:20250414T101043Z
UID:1094-1744624800-1744630200@www.familiekerkwalcheren.nl
SUMMARY:Ontmoeting op zondag - Bing & Share Paasontbijt
DESCRIPTION:De Heer is waarlijk opgestaan!  \nFamiliekerk Walcheren zorgt voor drinken. Iedereen neemt iets mee voor het ontbijt om toe te voegen aan de gemeenschappelijke maaltijd. De ervaring leert dat er altijd eten over is; mocht je niet in de gelegenheid zijn om iets mee te nemen\, ben je evengoed van harte welkom.
URL:https://www.familiekerkwalcheren.nl/evenement/ontmoeting-op-zondag-bing-share-paasontbijt/
LOCATION:SSG Nehalennia\, Kruisweg 2\, Middelburg\, Nederland
END:VEVENT
BEGIN:VEVENT
DTSTART;TZID=UTC:20250427T110000
DTEND;TZID=UTC:20250427T120000
DTSTAMP:20260422T145644
CREATED:20250414T100751Z
LAST-MODIFIED:20250414T100751Z
UID:1092-1745751600-1745755200@www.familiekerkwalcheren.nl
SUMMARY:Ontmoeting op zondag - Wandelen
DESCRIPTION:In verband met de meivakantie gaan we samen om 11 uur wandelen.
URL:https://www.familiekerkwalcheren.nl/evenement/ontmoeting-op-zondag-wandelen-2/
END:VEVENT
END:VCALENDAR