BEGIN:VCALENDAR
VERSION:2.0
PRODID:-//Familiekerk Walcheren - ECPv6.2.8.2//NONSGML v1.0//EN
CALSCALE:GREGORIAN
METHOD:PUBLISH
X-WR-CALNAME:Familiekerk Walcheren
X-ORIGINAL-URL:https://www.familiekerkwalcheren.nl
X-WR-CALDESC:Evenementen voor Familiekerk Walcheren
REFRESH-INTERVAL;VALUE=DURATION:PT1H
X-Robots-Tag:noindex
X-PUBLISHED-TTL:PT1H
BEGIN:VTIMEZONE
TZID:UTC
BEGIN:STANDARD
TZOFFSETFROM:+0000
TZOFFSETTO:+0000
TZNAME:UTC
DTSTART:20250101T000000
END:STANDARD
END:VTIMEZONE
BEGIN:VEVENT
DTSTART;TZID=UTC:20250601T100000
DTEND;TZID=UTC:20250601T130000
DTSTAMP:20260422T102713
CREATED:20250515T112016Z
LAST-MODIFIED:20250515T112016Z
UID:1100-1748772000-1748782800@www.familiekerkwalcheren.nl
SUMMARY:Ontmoeting op zondag
DESCRIPTION:Je bent van harte welkom! \nWe starten om 10.00 uur met koffie/thee. Daarna nemen we tijd om God te aanbidden en delen we het onderwijs.\nTijdens het onderwijs hebben de kinderen om de week hun eigen programma en de andere keer betrekken wij de kinderen erbij.\nNa de samenkomst lunchen wij met elkaar (Bring and Share). Voel je vrij om aan te sluiten of naar huis te gaan. \nLocatie: Nehalennia SSG\, Kruisweg 2\, 4335 CT Middelburg
URL:https://www.familiekerkwalcheren.nl/evenement/ontmoeting-op-zondag-86/
END:VEVENT
BEGIN:VEVENT
DTSTART;TZID=UTC:20250605T180000
DTEND;TZID=UTC:20250605T190000
DTSTAMP:20260422T102713
CREATED:20250515T112645Z
LAST-MODIFIED:20250515T112645Z
UID:1116-1749146400-1749150000@www.familiekerkwalcheren.nl
SUMMARY:Eten met elkaar
DESCRIPTION:
URL:https://www.familiekerkwalcheren.nl/evenement/eten-met-elkaar/
END:VEVENT
BEGIN:VEVENT
DTSTART;TZID=UTC:20250608T100000
DTEND;TZID=UTC:20250608T130000
DTSTAMP:20260422T102713
CREATED:20250515T112046Z
LAST-MODIFIED:20250515T112046Z
UID:1102-1749376800-1749387600@www.familiekerkwalcheren.nl
SUMMARY:Ontmoeting op zondag
DESCRIPTION:Je bent van harte welkom! \nWe starten om 10.00 uur met koffie/thee. Daarna nemen we tijd om God te aanbidden en delen we het onderwijs.\nTijdens het onderwijs hebben de kinderen om de week hun eigen programma en de andere keer betrekken wij de kinderen erbij.\nNa de samenkomst lunchen wij met elkaar (Bring and Share). Voel je vrij om aan te sluiten of naar huis te gaan. \nLocatie: Nehalennia SSG\, Kruisweg 2\, 4335 CT Middelburg
URL:https://www.familiekerkwalcheren.nl/evenement/ontmoeting-op-zondag-87/
END:VEVENT
BEGIN:VEVENT
DTSTART;TZID=UTC:20250612T200000
DTEND;TZID=UTC:20250612T220000
DTSTAMP:20260422T102713
CREATED:20250515T112440Z
LAST-MODIFIED:20250515T112440Z
UID:1112-1749758400-1749765600@www.familiekerkwalcheren.nl
SUMMARY:Huisgroep
DESCRIPTION:Kerk zijn is niet alleen op zondag\, maar de hele week. Elke donderdagavond om 20.00 uur komen wij bij elkaar in een huiskamer in Koudekerke\, Middelburg of Vlissingen. \nDeze avonden zijn een geweldige manier om mensen te leren kennen\, vriendschappen op te bouwen en elkaar aan te moedigen in ons geloof.\nPer avond wisselt het programma. Op de ene avond kan de nadruk meer op het bidden liggen en de andere avond meer op de Bijbel. \nGeïnteresseerd\, of wil je meer informatie? Neem contact met ons op.
URL:https://www.familiekerkwalcheren.nl/evenement/huisgroep-32/
END:VEVENT
BEGIN:VEVENT
DTSTART;TZID=UTC:20250615T100000
DTEND;TZID=UTC:20250615T130000
DTSTAMP:20260422T102713
CREATED:20250515T112118Z
LAST-MODIFIED:20250515T112118Z
UID:1104-1749981600-1749992400@www.familiekerkwalcheren.nl
SUMMARY:Ontmoeting op zondag
DESCRIPTION:Je bent van harte welkom! \nWe starten om 10.00 uur met koffie/thee. Daarna nemen we tijd om God te aanbidden en delen we het onderwijs.\nTijdens het onderwijs hebben de kinderen om de week hun eigen programma en de andere keer betrekken wij de kinderen erbij.\nNa de samenkomst lunchen wij met elkaar (Bring and Share). Voel je vrij om aan te sluiten of naar huis te gaan. \nLocatie: Nehalennia SSG\, Kruisweg 2\, 4335 CT Middelburg
URL:https://www.familiekerkwalcheren.nl/evenement/ontmoeting-op-zondag-88/
END:VEVENT
BEGIN:VEVENT
DTSTART;TZID=UTC:20250619T200000
DTEND;TZID=UTC:20250619T220000
DTSTAMP:20260422T102713
CREATED:20250515T112601Z
LAST-MODIFIED:20250515T112601Z
UID:1114-1750363200-1750370400@www.familiekerkwalcheren.nl
SUMMARY:Mannen- en vrouwenavond
DESCRIPTION:
URL:https://www.familiekerkwalcheren.nl/evenement/mannen-en-vrouwenavond-2/
END:VEVENT
BEGIN:VEVENT
DTSTART;TZID=UTC:20250622T100000
DTEND;TZID=UTC:20250622T130000
DTSTAMP:20260422T102713
CREATED:20250515T112153Z
LAST-MODIFIED:20250515T112153Z
UID:1106-1750586400-1750597200@www.familiekerkwalcheren.nl
SUMMARY:Ontmoeting op zondag
DESCRIPTION:Je bent van harte welkom! \nWe starten om 10.00 uur met koffie/thee. Daarna nemen we tijd om God te aanbidden en delen we het onderwijs.\nTijdens het onderwijs hebben de kinderen om de week hun eigen programma en de andere keer betrekken wij de kinderen erbij.\nNa de samenkomst lunchen wij met elkaar (Bring and Share). Voel je vrij om aan te sluiten of naar huis te gaan. \nLocatie: Nehalennia SSG\, Kruisweg 2\, 4335 CT Middelburg
URL:https://www.familiekerkwalcheren.nl/evenement/ontmoeting-op-zondag-89/
END:VEVENT
BEGIN:VEVENT
DTSTART;VALUE=DATE:20250629
DTEND;VALUE=DATE:20250630
DTSTAMP:20260422T102713
CREATED:20250515T112220Z
LAST-MODIFIED:20250515T112220Z
UID:1108-1751155200-1751241599@www.familiekerkwalcheren.nl
SUMMARY:GEEN ontmoeting op zondag
DESCRIPTION:
URL:https://www.familiekerkwalcheren.nl/evenement/geen-ontmoeting-op-zondag-11/
END:VEVENT
END:VCALENDAR