BEGIN:VCALENDAR
VERSION:2.0
PRODID:-//Familiekerk Walcheren - ECPv6.2.8.2//NONSGML v1.0//EN
CALSCALE:GREGORIAN
METHOD:PUBLISH
X-ORIGINAL-URL:https://www.familiekerkwalcheren.nl
X-WR-CALDESC:Evenementen voor Familiekerk Walcheren
REFRESH-INTERVAL;VALUE=DURATION:PT1H
X-Robots-Tag:noindex
X-PUBLISHED-TTL:PT1H
BEGIN:VTIMEZONE
TZID:UTC
BEGIN:STANDARD
TZOFFSETFROM:+0000
TZOFFSETTO:+0000
TZNAME:UTC
DTSTART:20250101T000000
END:STANDARD
END:VTIMEZONE
BEGIN:VEVENT
DTSTART;TZID=UTC:20250706T080000
DTEND;TZID=UTC:20250810T170000
DTSTAMP:20260422T071155
CREATED:20250701T064816Z
LAST-MODIFIED:20250701T065000Z
UID:1122-1751788800-1754845200@www.familiekerkwalcheren.nl
SUMMARY:Zomervakantie
DESCRIPTION:Het is zomervakantie!\nWe zien elkaar de komende tijd niet op school Nehalennia\, maar in huiskamers\, buiten of op andere zomerse plekken.\nVanaf zondag 17 augustus ontmoeten we elkaar weer in school.\nFijne vakantie!
URL:https://www.familiekerkwalcheren.nl/evenement/zomervakantie/
END:VEVENT
BEGIN:VEVENT
DTSTART;TZID=UTC:20250817T110000
DTEND;TZID=UTC:20250817T130000
DTSTAMP:20260422T071155
CREATED:20250701T064924Z
LAST-MODIFIED:20250817T065245Z
UID:1124-1755428400-1755435600@www.familiekerkwalcheren.nl
SUMMARY:Ontmoeting op zondag - LOCATIE GEWIJZIGD
DESCRIPTION:Je bent van harte welkom! \nWe starten dit seizoen met een worship ochtend en daarna een bring&share bbq. \nLocatie: Walchersweg 254 B\, Middelburg\nTijd: 11 uur
URL:https://www.familiekerkwalcheren.nl/evenement/ontmoeting-op-zondag-90/
END:VEVENT
BEGIN:VEVENT
DTSTART;TZID=UTC:20250824T100000
DTEND;TZID=UTC:20250824T130000
DTSTAMP:20260422T071155
CREATED:20250814T113736Z
LAST-MODIFIED:20250814T113736Z
UID:1127-1756029600-1756040400@www.familiekerkwalcheren.nl
SUMMARY:Ontmoeting op zondag
DESCRIPTION:Je bent van harte welkom! \nWe starten om 10.00 uur met koffie/thee. Daarna nemen we tijd om God te aanbidden en delen we het onderwijs.\nTijdens het onderwijs hebben de kinderen om de week hun eigen programma en de andere keer betrekken wij de kinderen erbij.\nNa de samenkomst lunchen wij met elkaar (Bring and Share). Voel je vrij om aan te sluiten of naar huis te gaan. \nLocatie: Nehalennia SSG\, Kruisweg 2\, 4335 CT Middelburg
URL:https://www.familiekerkwalcheren.nl/evenement/ontmoeting-op-zondag-91/
END:VEVENT
BEGIN:VEVENT
DTSTART;TZID=UTC:20250831T100000
DTEND;TZID=UTC:20250831T130000
DTSTAMP:20260422T071155
CREATED:20250814T113808Z
LAST-MODIFIED:20250814T113808Z
UID:1129-1756634400-1756645200@www.familiekerkwalcheren.nl
SUMMARY:Ontmoeting op zondag
DESCRIPTION:Je bent van harte welkom! \nWe starten om 10.00 uur met koffie/thee. Daarna nemen we tijd om God te aanbidden en delen we het onderwijs.\nTijdens het onderwijs hebben de kinderen om de week hun eigen programma en de andere keer betrekken wij de kinderen erbij.\nNa de samenkomst lunchen wij met elkaar (Bring and Share). Voel je vrij om aan te sluiten of naar huis te gaan. \nLocatie: Nehalennia SSG\, Kruisweg 2\, 4335 CT Middelburg
URL:https://www.familiekerkwalcheren.nl/evenement/ontmoeting-op-zondag-92/
END:VEVENT
END:VCALENDAR